BEGIN:VCALENDAR
VERSION:2.0
PRODID:-//Octubre Centre de Cultura Contemporània - ECPv5.1.6//NONSGML v1.0//EN
CALSCALE:GREGORIAN
METHOD:PUBLISH
X-WR-CALNAME:Octubre Centre de Cultura Contemporània
X-ORIGINAL-URL:https://octubre.cat
X-WR-CALDESC:Events for Octubre Centre de Cultura Contemporània
BEGIN:VTIMEZONE
TZID:Europe/Andorra
BEGIN:DAYLIGHT
TZOFFSETFROM:+0100
TZOFFSETTO:+0200
TZNAME:CEST
DTSTART:20160327T010000
END:DAYLIGHT
BEGIN:STANDARD
TZOFFSETFROM:+0200
TZOFFSETTO:+0100
TZNAME:CET
DTSTART:20161030T010000
END:STANDARD
END:VTIMEZONE
BEGIN:VEVENT
DTSTART;TZID=Europe/Andorra:20161109T190000
DTEND;TZID=Europe/Andorra:20161109T190000
DTSTAMP:20260420T184244
CREATED:20200729T172139Z
LAST-MODIFIED:20200729T185632Z
UID:10858-1478718000-1478718000@octubre.cat
SUMMARY:Doble presentació poètica d'August Bover
DESCRIPTION:Dimecres 9 de novembre a les 19.00h. Amb l’autor i Lluís Roda\, a la llibreria Fan Set.  \n  \n  \n\n Presentació dels llibres Cloc! (Arola Editors) i Beabà (Arola Editors\, amb il·lustracions de Pere Capellà Simó).  August Bover arribarà a València amb dos poemaris sota el braç: el darrer treball\, Beabà\, i l’anterior col·laboració amb l’artista plàstic Pere Capellà Simó\, Cloc!\, tots dos editats a Arola. Des dels jocs poètics que s’encomanen a Llull i evoquen alhora les propostes avantguardistes del grup OuLiPo (sonets amb eco\, lipogrames monovocàlics…)\, que trobem a Cloc!\, fins als vint-i-cinc tautogrames que conformen el treballat diàleg poètic de Beabà\, Bover ens oferirà un intens recorregut per la seua cisellada creativitat  La presentació comptarà amb l’autor i Lluís Roda.
URL:https://octubre.cat/activitat/doble-presentacio-poetica-daugust-bover/
LOCATION:Llibreria 3i4
CATEGORIES:Literatura
ATTACH;FMTTYPE=image/jpeg:https://octubre.cat/www/wp-content/uploads/2020/07/activitat2687.jpg
END:VEVENT
END:VCALENDAR