BEGIN:VCALENDAR
VERSION:2.0
PRODID:-//Octubre Centre de Cultura Contemporània - ECPv5.1.6//NONSGML v1.0//EN
CALSCALE:GREGORIAN
METHOD:PUBLISH
X-WR-CALNAME:Octubre Centre de Cultura Contemporània
X-ORIGINAL-URL:https://octubre.cat
X-WR-CALDESC:Events for Octubre Centre de Cultura Contemporània
BEGIN:VTIMEZONE
TZID:Europe/Andorra
BEGIN:DAYLIGHT
TZOFFSETFROM:+0100
TZOFFSETTO:+0200
TZNAME:CEST
DTSTART:20180325T010000
END:DAYLIGHT
BEGIN:STANDARD
TZOFFSETFROM:+0200
TZOFFSETTO:+0100
TZNAME:CET
DTSTART:20181028T010000
END:STANDARD
END:VTIMEZONE
BEGIN:VEVENT
DTSTART;TZID=Europe/Andorra:20180523T190000
DTEND;TZID=Europe/Andorra:20180523T190000
DTSTAMP:20260422T024547
CREATED:20200729T190400Z
LAST-MODIFIED:20200729T190400Z
UID:13388-1527102000-1527102000@octubre.cat
SUMMARY:Doble presentació de l'editorial Afers
DESCRIPTION:—Memòria d’inquietud\, de Carles Camps Mundó  —Shakespeare en la veu dels traductors\, de Josep Maria Fulquet  Amb els autors\, Ramon Ramon i Vicent Olmos  (Editorial Afers)
URL:https://octubre.cat/activitat/doble-presentacio-de-leditorial-afers/
LOCATION:Llibreria Fan Set
CATEGORIES:Literatura
ATTACH;FMTTYPE=image/jpeg:https://octubre.cat/www/wp-content/uploads/2020/07/llibres1.jpg
END:VEVENT
END:VCALENDAR