BEGIN:VCALENDAR
VERSION:2.0
PRODID:-//Octubre Centre de Cultura Contemporània - ECPv5.1.6//NONSGML v1.0//EN
CALSCALE:GREGORIAN
METHOD:PUBLISH
X-WR-CALNAME:Octubre Centre de Cultura Contemporània
X-ORIGINAL-URL:https://octubre.cat
X-WR-CALDESC:Events for Octubre Centre de Cultura Contemporània
BEGIN:VTIMEZONE
TZID:Europe/Andorra
BEGIN:DAYLIGHT
TZOFFSETFROM:+0100
TZOFFSETTO:+0200
TZNAME:CEST
DTSTART:20140330T010000
END:DAYLIGHT
BEGIN:STANDARD
TZOFFSETFROM:+0200
TZOFFSETTO:+0100
TZNAME:CET
DTSTART:20141026T010000
END:STANDARD
END:VTIMEZONE
BEGIN:VEVENT
DTSTART;TZID=Europe/Andorra:20140614T190000
DTEND;TZID=Europe/Andorra:20140614T190000
DTSTAMP:20260421T073757
CREATED:20200729T170452Z
LAST-MODIFIED:20200730T041135Z
UID:9780-1402772400-1402772400@octubre.cat
SUMMARY:Divendres negre
DESCRIPTION:Divendres 13 de juny a les 19.00h: tertúlia sobre novel·la negra amb Anna Maria Villalonga\, Esperança Camps\, Núria Cadenes\, Anna Moner\, Juli Peretó\, Xavier Aliaga i Juli Alandes  \n  \n  \n\n Parlarem del gènere negre amb algunes de les assassines d’Elles també maten (Llibres del Delicte): Anna Maria Villalonga\, Esperança Camps\, Anna Moner i Núria Cadenes; amb Xavier Aliaga\, autor de Dos metres quadrats de sang jove (Crims.cat); i amb Juli Alandes\, que prepara nova novel·la negra\, i Juli Peretó…  Tot plegat\, acompanyats d’una picadeta negra (sang amb ceba i olives negres i vi negre)
URL:https://octubre.cat/activitat/divendres-negre/
LOCATION:Llibreria 3i4
CATEGORIES:Literatura
ATTACH;FMTTYPE=image/jpeg:https://octubre.cat/www/wp-content/uploads/2020/07/activitat2079.jpg
END:VEVENT
END:VCALENDAR