BEGIN:VCALENDAR
VERSION:2.0
PRODID:-//Octubre Centre de Cultura Contemporània - ECPv5.1.6//NONSGML v1.0//EN
CALSCALE:GREGORIAN
METHOD:PUBLISH
X-WR-CALNAME:Octubre Centre de Cultura Contemporània
X-ORIGINAL-URL:https://octubre.cat
X-WR-CALDESC:Events for Octubre Centre de Cultura Contemporània
BEGIN:VTIMEZONE
TZID:Europe/Andorra
BEGIN:DAYLIGHT
TZOFFSETFROM:+0100
TZOFFSETTO:+0200
TZNAME:CEST
DTSTART:20160327T010000
END:DAYLIGHT
BEGIN:STANDARD
TZOFFSETFROM:+0200
TZOFFSETTO:+0100
TZNAME:CET
DTSTART:20161030T010000
END:STANDARD
END:VTIMEZONE
BEGIN:VEVENT
DTSTART;TZID=Europe/Andorra:20161216T200000
DTEND;TZID=Europe/Andorra:20161216T200000
DTSTAMP:20260420T173921
CREATED:20200729T172256Z
LAST-MODIFIED:20200729T185705Z
UID:10937-1481918400-1481918400@octubre.cat
SUMMARY:'Distint'\, amb Moisés Olcina & Andreu Valor
DESCRIPTION:Divendres 16 de desembre a les 20.00h. Entrades a 8 i 10 euros.  \n  \n  \n\n Una cosa de dos  Existeixen històries programades i d’altres on el destí s’encarrega d’ubicar els factors necessaris perquè la sensibilitat de la creació prenga vida pròpia i fluïsca la música. En diverses ocasions els escenaris han sigut l’ambient compartit entre aquests dos músics\, que unint dos propostes tan diferents es combinen en un sol sentiment momentani; Les melodies del saxofonista alcoià Moisés Olcina\, banyades de mil substa?ncies i estils amb les històries i cantades pel cantautor contestà Andreu Valor. Ara\, juntament\, presenten l’espectacle DISTINT. Un repertori elegit per ubicar la intimitat i bogeria de la proposta I poder conduir-lo en espais concrets i diferents. La idea és ubicar aquesta música i recuperar llocs de tendresa\, d’història\, de valor sentimental…Un arbre mil·lenari\, la font que ha donat aigua al poble durant mitja vida\, el càlid parc que fa a l’estiu el record d’infantesa\, les arcades d’una casa romàntica\, l’interior d’un espai on realment s’ame la cultura\, entre llibres\, baix d’estels\, rodejats d’espelmes…i fer tangibles els somnis.  Entrades: 10 euros en taquilla Anticipades a notikumi.com: 8 euros.  — Espai Octubre Concerts és una iniciativa de l’Octubre CCC gestionada per les productores musicals Metrònom\, Play Producciones\,  Mésdemil i lacasacalba.org.
URL:https://octubre.cat/activitat/distint-amb-moises-olcina-andreu-valor/
CATEGORIES:Espai Octubre Concerts
ATTACH;FMTTYPE=image/jpeg:https://octubre.cat/www/wp-content/uploads/2020/07/activitat2728.jpg
END:VEVENT
END:VCALENDAR