BEGIN:VCALENDAR
VERSION:2.0
PRODID:-//Octubre Centre de Cultura Contemporània - ECPv5.1.6//NONSGML v1.0//EN
CALSCALE:GREGORIAN
METHOD:PUBLISH
X-WR-CALNAME:Octubre Centre de Cultura Contemporània
X-ORIGINAL-URL:https://octubre.cat
X-WR-CALDESC:Events for Octubre Centre de Cultura Contemporània
BEGIN:VTIMEZONE
TZID:Europe/Andorra
BEGIN:DAYLIGHT
TZOFFSETFROM:+0100
TZOFFSETTO:+0200
TZNAME:CEST
DTSTART:20160327T010000
END:DAYLIGHT
BEGIN:STANDARD
TZOFFSETFROM:+0200
TZOFFSETTO:+0100
TZNAME:CET
DTSTART:20161030T010000
END:STANDARD
END:VTIMEZONE
BEGIN:VEVENT
DTSTART;TZID=Europe/Andorra:20161129T193000
DTEND;TZID=Europe/Andorra:20161129T193000
DTSTAMP:20260421T033104
CREATED:20200729T172159Z
LAST-MODIFIED:20200729T185643Z
UID:10880-1480447800-1480447800@octubre.cat
SUMMARY:Discrepant... a dos: Pau Rausell i Ximo Solano
DESCRIPTION:Dimarts 29 de novembre a les 19.30h. Organitzat per Malalts de Ciutat amb la col·laboració de l’Octubre CCC.  \n  \n  \n\n Cicle “Discrepant… a dos”\, amb Pau Rausell (Econcult – Universitat de València) i Ximo Solano (actor): “Cultura: n’hi ha o no n’hi ha pla?”  Organitzat per Malalts de Ciutat amb la col·laboració de l’Octubre CCC.
URL:https://octubre.cat/activitat/discrepant-a-dos-pau-rausell-i-ximo-solano/
CATEGORIES:Conferències i congressos
ATTACH;FMTTYPE=image/jpeg:https://octubre.cat/www/wp-content/uploads/2020/07/activitat2699.jpg
END:VEVENT
END:VCALENDAR