BEGIN:VCALENDAR
VERSION:2.0
PRODID:-//Octubre Centre de Cultura Contemporània - ECPv5.1.6//NONSGML v1.0//EN
CALSCALE:GREGORIAN
METHOD:PUBLISH
X-WR-CALNAME:Octubre Centre de Cultura Contemporània
X-ORIGINAL-URL:https://octubre.cat
X-WR-CALDESC:Events for Octubre Centre de Cultura Contemporània
BEGIN:VTIMEZONE
TZID:Europe/Andorra
BEGIN:DAYLIGHT
TZOFFSETFROM:+0100
TZOFFSETTO:+0200
TZNAME:CEST
DTSTART:20140330T010000
END:DAYLIGHT
BEGIN:STANDARD
TZOFFSETFROM:+0200
TZOFFSETTO:+0100
TZNAME:CET
DTSTART:20141026T010000
END:STANDARD
END:VTIMEZONE
BEGIN:VEVENT
DTSTART;TZID=Europe/Andorra:20141127T190000
DTEND;TZID=Europe/Andorra:20141127T190000
DTSTAMP:20260421T051231
CREATED:20200729T170706Z
LAST-MODIFIED:20200730T041235Z
UID:9924-1417114800-1417114800@octubre.cat
SUMMARY:Diploma d'especialització en sostenibilitat
DESCRIPTION:Dijous 27 de novembre a les 19.00h. Presentació pública del Diploma d’Especialització en sostenibilitat\, ètica ecològica i educació ambiental de la Universitat Politècnica de València   \n  \n  \n\n Presentació pública del Diploma d’Especialització en sostenibilitat\, ètica ecològica i educació ambiental  (Universitat Politècnica de València)  La presentació anirà a càrrec de: —Jorge Riechmann (professor de filosofia moral\, UAM) —José Luis Cueto (Degà de la Facultat de Belles Arts) —José Albelda (Director del Diploma)   La conferència inaugural de Jorge Riechmann versarà “Sobre el futur del capitalisme i el paper de l’ètica ecològica en la crisis civilitzadora”
URL:https://octubre.cat/activitat/diploma-despecialitzacio-en-sostenibilitat/
CATEGORIES:Conferències i congressos
ATTACH;FMTTYPE=image/jpeg:https://octubre.cat/www/wp-content/uploads/2020/07/activitat2160.jpg
END:VEVENT
END:VCALENDAR