BEGIN:VCALENDAR
VERSION:2.0
PRODID:-//Octubre Centre de Cultura Contemporània - ECPv5.1.6//NONSGML v1.0//EN
CALSCALE:GREGORIAN
METHOD:PUBLISH
X-WR-CALNAME:Octubre Centre de Cultura Contemporània
X-ORIGINAL-URL:https://octubre.cat
X-WR-CALDESC:Events for Octubre Centre de Cultura Contemporània
BEGIN:VTIMEZONE
TZID:Europe/Andorra
BEGIN:DAYLIGHT
TZOFFSETFROM:+0100
TZOFFSETTO:+0200
TZNAME:CEST
DTSTART:20140330T010000
END:DAYLIGHT
BEGIN:STANDARD
TZOFFSETFROM:+0200
TZOFFSETTO:+0100
TZNAME:CET
DTSTART:20141026T010000
END:STANDARD
END:VTIMEZONE
BEGIN:VEVENT
DTSTART;TZID=Europe/Andorra:20140304T190000
DTEND;TZID=Europe/Andorra:20140304T190000
DTSTAMP:20260421T072202
CREATED:20200729T170355Z
LAST-MODIFIED:20200729T184406Z
UID:9723-1393959600-1393959600@octubre.cat
SUMMARY:Dimarts de Germania
DESCRIPTION:Dimarts 4 de març a les 19.00h. Presentació de llibres d’Alba Fluixà\, Jordi Guerola\, Jesús Giron\, Pura Peris i Enric Sanç  \n  \n  \n\n Presentació dels llibres  —En el camí de l’alba\, d’Alba Fluixà —Llibre de contemplació\, de Jesús Girón —Amagatalls\, de Jordi Guerola —Tasts de vida\, de Pura Peris —Les hores concèntriques\, d’Enric Sanç  presentat per Manel Alonso (director literari)  Editorial Germania
URL:https://octubre.cat/activitat/dimarts-de-germania/
LOCATION:Llibreria 3i4
CATEGORIES:Literatura
ATTACH;FMTTYPE=image/jpeg:https://octubre.cat/www/wp-content/uploads/2020/07/activitat2018.jpg
END:VEVENT
END:VCALENDAR