BEGIN:VCALENDAR
VERSION:2.0
PRODID:-//Octubre Centre de Cultura Contemporània - ECPv5.1.6//NONSGML v1.0//EN
CALSCALE:GREGORIAN
METHOD:PUBLISH
X-WR-CALNAME:Octubre Centre de Cultura Contemporània
X-ORIGINAL-URL:https://octubre.cat
X-WR-CALDESC:Events for Octubre Centre de Cultura Contemporània
BEGIN:VTIMEZONE
TZID:Europe/Andorra
BEGIN:DAYLIGHT
TZOFFSETFROM:+0100
TZOFFSETTO:+0200
TZNAME:CEST
DTSTART:20090329T010000
END:DAYLIGHT
BEGIN:STANDARD
TZOFFSETFROM:+0200
TZOFFSETTO:+0100
TZNAME:CET
DTSTART:20091025T010000
END:STANDARD
END:VTIMEZONE
BEGIN:VEVENT
DTSTART;TZID=Europe/Andorra:20091122T190000
DTEND;TZID=Europe/Andorra:20091122T190000
DTSTAMP:20260420T173816
CREATED:20200729T182701Z
LAST-MODIFIED:20200729T182701Z
UID:12965-1258916400-1258916400@octubre.cat
SUMMARY:Diego García Trio
DESCRIPTION:Diumenge 22 de novembre\, a les 19.00h: Diego García Trio (València).   \n  \n  \n\nEl valencià Diego García fa anys que posa la seua guitarra al servei d’artistes tan diferents com Merche Corisco\, Guerrilla Gorila\, Juan Perro\, Jaime Urrutia o\, en més recentment\, integrat en la banda d’Andrés Calamaro. Entre tanta activitat\, però\, encara li queda temps per a fer la seua pròpia música i fa poc que ha publicat el seu segon disc en solitari Twanguero. És un àlbum fonamentalment instrumental\, encara que Bimba Bosé posa veu al clàssic “Hound dog”\, en el qual Diego es destapa com un entusiasta dels sons clàssics: jazz\, rock & roll i blues. Gravat en format de trio – guitarra\, baix i bateria – compta amb les col·laboracions de Candy Caramelo i el seu baix\, Mauri Sanchis\, així com de Javier Mora al Hammond i Diego Galaz amb el violí.   Formació:  Diego García\, guitarra Edu Olmedo\, bateria Dani Casielles\, baix i veu
URL:https://octubre.cat/activitat/diego-garcia-trio/
LOCATION:No definit
CATEGORIES:Diumenges de Jazz!
ATTACH;FMTTYPE=image/jpeg:https://octubre.cat/www/wp-content/uploads/2020/07/activitat999.jpg
END:VEVENT
END:VCALENDAR