BEGIN:VCALENDAR
VERSION:2.0
PRODID:-//Octubre Centre de Cultura Contemporània - ECPv5.1.6//NONSGML v1.0//EN
CALSCALE:GREGORIAN
METHOD:PUBLISH
X-WR-CALNAME:Octubre Centre de Cultura Contemporània
X-ORIGINAL-URL:https://octubre.cat
X-WR-CALDESC:Events for Octubre Centre de Cultura Contemporània
BEGIN:VTIMEZONE
TZID:Europe/Andorra
BEGIN:DAYLIGHT
TZOFFSETFROM:+0100
TZOFFSETTO:+0200
TZNAME:CEST
DTSTART:20170326T010000
END:DAYLIGHT
BEGIN:STANDARD
TZOFFSETFROM:+0200
TZOFFSETTO:+0100
TZNAME:CET
DTSTART:20171029T010000
END:STANDARD
END:VTIMEZONE
BEGIN:VEVENT
DTSTART;TZID=Europe/Andorra:20171231T193000
DTEND;TZID=Europe/Andorra:20171231T193000
DTSTAMP:20260421T072138
CREATED:20200729T190246Z
LAST-MODIFIED:20200729T190246Z
UID:13313-1514748600-1514748600@octubre.cat
SUMMARY:Diamont Dancer presenten 'Shapes'
DESCRIPTION:Divendres 9 de febrer a les 19.30h. Shapes és el nou LP de Diamont Dancer (Pau Roca + Nacho Marco) a Canoa Snake Records.  \n  \n  \n\n Shapes és el nou LP de Diamont Dancer a Canoa Snake Records.  Els músics valencians Nacho Marco i Pau Roca\, tots dos amb una llarga trajectòria professional\, han tornat a unir forces per a crear aquest nou projecte musical. El seu primer LP consta de set cançons i ve carregat de melancòliques melodies infinites\, loops de guitarra processats i evocadors “drons” de sintetitzador analògic amb influències directes de Fripp/Eno\, Steve Reich i John Carpenter. El pintor i dissenyador Artur Heras ha estat l’encarregat de fer el disseny de la portada.  Pau Roca és el guitarrista de La Habitación Roja\, una de les bandes més consolidades en el panorama indie pop-rock nacional\, que porta més de vint anys sobre els escenaris. Pau ha format part de diversos projectes paral·lels i ha realitzat nombroses col·laboracions amb altres artistes\, a més de compondre i fins i tot actuar com a Dj.  De reconeguda projecció internacional\, Nacho Marco és un dels Dj’s més respectats i figura entre els productors més prolífics de l’escena electrònica dels darrers vint anys. Ha actuat en els millors clubs i festivals\, enregistrat per a reputats segells d’electrònica com Mute i Ovum i ha remesclat a grans artistes. A dia d’avui compagina el seu treball com a tester a Roland amb la labor de professor a Berklee College of Music.
URL:https://octubre.cat/activitat/diamont-dancer-presenten-shapes/
CATEGORIES:Música
ATTACH;FMTTYPE=image/jpeg:https://octubre.cat/www/wp-content/uploads/2020/07/activitat2952.jpg
END:VEVENT
END:VCALENDAR