BEGIN:VCALENDAR
VERSION:2.0
PRODID:-//Octubre Centre de Cultura Contemporània - ECPv5.1.6//NONSGML v1.0//EN
CALSCALE:GREGORIAN
METHOD:PUBLISH
X-WR-CALNAME:Octubre Centre de Cultura Contemporània
X-ORIGINAL-URL:https://octubre.cat
X-WR-CALDESC:Events for Octubre Centre de Cultura Contemporània
BEGIN:VTIMEZONE
TZID:Europe/Andorra
BEGIN:DAYLIGHT
TZOFFSETFROM:+0100
TZOFFSETTO:+0200
TZNAME:CEST
DTSTART:20090329T010000
END:DAYLIGHT
BEGIN:STANDARD
TZOFFSETFROM:+0200
TZOFFSETTO:+0100
TZNAME:CET
DTSTART:20091025T010000
END:STANDARD
END:VTIMEZONE
BEGIN:VEVENT
DTSTART;TZID=Europe/Andorra:20090330T190000
DTEND;TZID=Europe/Andorra:20090330T190000
DTSTAMP:20260421T000823
CREATED:20200729T182408Z
LAST-MODIFIED:20200729T182408Z
UID:12803-1238439600-1238439600@octubre.cat
SUMMARY:Dia mundial del teatre
DESCRIPTION:Dilluns 30 de març\, a les 19.00h: Acte de l’Associació d’Actors i Actrius Professionals Valencians per a celebrar aquesta data.   \n  \n  \n\nActe de l’associació d’Actors i Actrius Professionals Valencians\, que celebra el seu vinté aniversari i en el transcurs del qual es lliurarà també el Premi Narcís a Teresa Lozano\, en reconeixement pel seu treball com actriu\, per la seua tasca en favor del fet teatral i dels drets dels actors.
URL:https://octubre.cat/activitat/dia-mundial-del-teatre/
LOCATION:No definit
CATEGORIES:Literatura
ATTACH;FMTTYPE=image/jpeg:https://octubre.cat/www/wp-content/uploads/2020/07/presentacions1.jpg
END:VEVENT
END:VCALENDAR