BEGIN:VCALENDAR
VERSION:2.0
PRODID:-//Octubre Centre de Cultura Contemporània - ECPv5.1.6//NONSGML v1.0//EN
CALSCALE:GREGORIAN
METHOD:PUBLISH
X-WR-CALNAME:Octubre Centre de Cultura Contemporània
X-ORIGINAL-URL:https://octubre.cat
X-WR-CALDESC:Events for Octubre Centre de Cultura Contemporània
BEGIN:VTIMEZONE
TZID:Europe/Andorra
BEGIN:DAYLIGHT
TZOFFSETFROM:+0100
TZOFFSETTO:+0200
TZNAME:CEST
DTSTART:20150329T010000
END:DAYLIGHT
BEGIN:STANDARD
TZOFFSETFROM:+0200
TZOFFSETTO:+0100
TZNAME:CET
DTSTART:20151025T010000
END:STANDARD
END:VTIMEZONE
BEGIN:VEVENT
DTSTART;TZID=Europe/Andorra:20151027T190000
DTEND;TZID=Europe/Andorra:20151027T190000
DTSTAMP:20260422T130824
CREATED:20200729T171331Z
LAST-MODIFIED:20200730T041544Z
UID:10336-1445972400-1445972400@octubre.cat
SUMMARY:Dia mundial del patrimoni audiovisual
DESCRIPTION:Dimarts 27 d’octubre a les 19.00h. Organitzat per ACICOM. Presentacio del projecte “La memòria rescatada”  \n  \n  \n\n ACICOM celebra des de fa anys el Dia Mundial del Patrimoni Audiovisual per tal d’aconseguir la preservació i protecció dels arxius audiovisuals i la seua posada a disposició de la ciutadania. Des de 2013 venim exigint als Governs\, autonòmic i estatal\, la declaració de BIC dels arxius de RTVV i de RTVE a la Comunitat Valenciana. Comptem amb el recolzament amb els seus informes favorables del Consell Valencià de Cultura i de la Reial Acadèmia de Belles Artts de Sant Carles. Enguany amb Helena i Valentí\, persones associades a ACICOM i membres de Los sueños de la Hormiga Roja\, presentem en el Dia Mundial del Patrimoni Audiovisual el Projecte LA MEMÒRIA RESCATADA. També comptarem amb la participació del nostre soci Juli Esteve \, d’InfoTV que intervendrà en la jornada oferint el seu important testimoni com expert audiovisual que ha recuperat una gran part de la memòria dels valencians exiliats.
URL:https://octubre.cat/activitat/dia-mundial-del-patrimoni-audiovisual/
LOCATION:Sala d’actes
CATEGORIES:Conferències i congressos
ATTACH;FMTTYPE=image/jpeg:https://octubre.cat/www/wp-content/uploads/2020/07/activitat2413.jpg
END:VEVENT
END:VCALENDAR