BEGIN:VCALENDAR
VERSION:2.0
PRODID:-//Octubre Centre de Cultura Contemporània - ECPv5.1.6//NONSGML v1.0//EN
CALSCALE:GREGORIAN
METHOD:PUBLISH
X-WR-CALNAME:Octubre Centre de Cultura Contemporània
X-ORIGINAL-URL:https://octubre.cat
X-WR-CALDESC:Events for Octubre Centre de Cultura Contemporània
BEGIN:VTIMEZONE
TZID:Europe/Andorra
BEGIN:DAYLIGHT
TZOFFSETFROM:+0100
TZOFFSETTO:+0200
TZNAME:CEST
DTSTART:20120325T010000
END:DAYLIGHT
BEGIN:STANDARD
TZOFFSETFROM:+0200
TZOFFSETTO:+0100
TZNAME:CET
DTSTART:20121028T010000
END:STANDARD
END:VTIMEZONE
BEGIN:VEVENT
DTSTART;TZID=Europe/Andorra:20120321T193000
DTEND;TZID=Europe/Andorra:20120321T193000
DTSTAMP:20260421T085209
CREATED:20200729T165721Z
LAST-MODIFIED:20200730T042947Z
UID:9344-1332358200-1332358200@octubre.cat
SUMMARY:Dia Mundial de la Poesia 2012
DESCRIPTION:Dimecres\, 21 de març\, a les 19.30h: recital amb motiu del Dia Mundial de la Poesia 2012  \n  \n  \n\nLES POETES I ELS POETES VALENCIANS CELEBREN EL DIA MUNDIAL DE LA POESIA. RECITAL COL·LECTIU A L’OCCC DE VALÈNCIA  Amb motiu del Dia Mundial de la Poesia\, que es celebra el dia 21 de març\, l’Aula de Poesia de la Universitat de València i el grup d’escriptors Saforíssims Societat Literària han organitzat un recital en què hi participen una vintena de poetes. La lectura poètica comptarà amb interludis musicals interpretats per Cristina Martí a la dolçaina i Àlex Velázquez al teclat.  En aquesta edició el poema de capçalera és l’escrit expressament per a l’ocasió pel poeta Narcís Comadira\, traduït a diferents llengües. La Institució de les Lletres Catalanes\, impulsora de la iniciativa\, ha editat un opuscle\, que serà distribuït als assistents\, amb les diverses adaptacions (amazic\, anglès\, àrab\, caló\, castellà\, croat\, euskera. francès\, guaraní\, italià\, japonès\, kirguís\, mandarí\, occità\, panjabi\, romanès\, soninke\, suec\, urdú i wòlof).  Des que la Unesco va proclamar el dia 21 de març (equinocci de primavera) Dia Mundial de la Poesia\, aquesta diada se celebra a nombroses ciutats del món. També als territoris de parla catalana la celebració\, encapçalada per la ILC\, suma noves adhesions i s’escampa per nombroses poblacions.  ORGANITZACIÓ: Institució de les Lletres Catalanes Aula de Poesia de la UV Saforíssims Societat Literària
URL:https://octubre.cat/activitat/dia-mundial-de-la-poesia-2012/
LOCATION:No definit
CATEGORIES:Literatura
ATTACH;FMTTYPE=image/jpeg:https://octubre.cat/www/wp-content/uploads/2020/07/activitat1587.jpg
END:VEVENT
END:VCALENDAR