BEGIN:VCALENDAR
VERSION:2.0
PRODID:-//Octubre Centre de Cultura Contemporània - ECPv5.1.6//NONSGML v1.0//EN
CALSCALE:GREGORIAN
METHOD:PUBLISH
X-WR-CALNAME:Octubre Centre de Cultura Contemporània
X-ORIGINAL-URL:https://octubre.cat
X-WR-CALDESC:Events for Octubre Centre de Cultura Contemporània
BEGIN:VTIMEZONE
TZID:Europe/Andorra
BEGIN:DAYLIGHT
TZOFFSETFROM:+0100
TZOFFSETTO:+0200
TZNAME:CEST
DTSTART:20100328T010000
END:DAYLIGHT
BEGIN:STANDARD
TZOFFSETFROM:+0200
TZOFFSETTO:+0100
TZNAME:CET
DTSTART:20101031T010000
END:STANDARD
END:VTIMEZONE
BEGIN:VEVENT
DTSTART;TZID=Europe/Andorra:20100930T193000
DTEND;TZID=Europe/Andorra:20100930T193000
DTSTAMP:20260420T181041
CREATED:20200729T165022Z
LAST-MODIFIED:20200730T042536Z
UID:8904-1285875000-1285875000@octubre.cat
SUMMARY:Dia Internacional del Traductor
DESCRIPTION:Dijous 30 de setembre\, a les 19.30h: Dia Internacional del Traductor.   \n  \n  \n\nQuan llegim un clàssic o un premi Nobel en una llengua que no coneixem\, és gràcies a la tasca d’un traductor o traductora de qui\, sovint\, ignorem el nom o fins i tot l’existència. Amb aquest dia internacional volem reivindicar la visibilitat d’aquest(e)s escriptor(e)s tant en les obres que tradueixen\, amb el seu nom a la coberta\, com en els mitjans de comunicació quan es parla d’una obra traduïda. També reivindiquem\, amb aquesta diada\, una retribució digna per aquesta feina tan difícil i tan apassionant.  Amb aquesta finalitat\, diversos traductors i traductores literaris del País Valencià que tradueixen al català\, com els seus col·legues a la resta dels Països Catalans\, llegiran fragments de les seues obres\, que ho són tant\, almenys\, com dels novel·listes\, assagistes o poetes que les van escriure.
URL:https://octubre.cat/activitat/dia-internacional-del-traductor/
LOCATION:No definit
CATEGORIES:Escriptors al terrat
ATTACH;FMTTYPE=image/jpeg:https://octubre.cat/www/wp-content/uploads/2020/07/activitat1239.jpg
END:VEVENT
END:VCALENDAR