BEGIN:VCALENDAR
VERSION:2.0
PRODID:-//Octubre Centre de Cultura Contemporània - ECPv5.1.6//NONSGML v1.0//EN
CALSCALE:GREGORIAN
METHOD:PUBLISH
X-WR-CALNAME:Octubre Centre de Cultura Contemporània
X-ORIGINAL-URL:https://octubre.cat
X-WR-CALDESC:Events for Octubre Centre de Cultura Contemporània
BEGIN:VTIMEZONE
TZID:Europe/Andorra
BEGIN:DAYLIGHT
TZOFFSETFROM:+0100
TZOFFSETTO:+0200
TZNAME:CEST
DTSTART:20180325T010000
END:DAYLIGHT
BEGIN:STANDARD
TZOFFSETFROM:+0200
TZOFFSETTO:+0100
TZNAME:CET
DTSTART:20181028T010000
END:STANDARD
END:VTIMEZONE
BEGIN:VEVENT
DTSTART;TZID=Europe/Andorra:20180622T200000
DTEND;TZID=Europe/Andorra:20180622T200000
DTSTAMP:20260421T072458
CREATED:20200729T173057Z
LAST-MODIFIED:20200729T190900Z
UID:11239-1529697600-1529697600@octubre.cat
SUMMARY:Dia de la Música: King Kong Boy
DESCRIPTION:Divendres 22 de juny a les 20.00h. Entrada gratuïta\, fins a completar aforament.	 \n  \n  \n\n 	 Celebrem el dia de la música amb l’actuació de  KING KONG BOY.  19:30 h. obertura portes. 20:00 h. Concert.  Entrada gratuïta\, fins a completar aforament.
URL:https://octubre.cat/activitat/dia-de-la-musica-king-kong-boy/
LOCATION:Sala d’actes
CATEGORIES:Música
ATTACH;FMTTYPE=image/jpeg:https://octubre.cat/www/wp-content/uploads/2020/07/activitat3078.jpg
END:VEVENT
END:VCALENDAR