BEGIN:VCALENDAR
VERSION:2.0
PRODID:-//Octubre Centre de Cultura Contemporània - ECPv5.1.6//NONSGML v1.0//EN
CALSCALE:GREGORIAN
METHOD:PUBLISH
X-WR-CALNAME:Octubre Centre de Cultura Contemporània
X-ORIGINAL-URL:https://octubre.cat
X-WR-CALDESC:Events for Octubre Centre de Cultura Contemporània
BEGIN:VTIMEZONE
TZID:Europe/Andorra
BEGIN:DAYLIGHT
TZOFFSETFROM:+0100
TZOFFSETTO:+0200
TZNAME:CEST
DTSTART:20240331T010000
END:DAYLIGHT
BEGIN:STANDARD
TZOFFSETFROM:+0200
TZOFFSETTO:+0100
TZNAME:CET
DTSTART:20241027T010000
END:STANDARD
END:VTIMEZONE
BEGIN:VEVENT
DTSTART;TZID=Europe/Andorra:20240207T190000
DTEND;TZID=Europe/Andorra:20240207T190000
DTSTAMP:20260421T151603
CREATED:20231228T164546Z
LAST-MODIFIED:20250713T084454Z
UID:20763-1707332400-1707332400@octubre.cat
SUMMARY:Dia de Darwin 2024
DESCRIPTION:–Conferència\, Sala Charles Darwin\, Campus de Burjassot-Paterna de la Universitat de València\, 13.00h: \n«Un primat estudiant primats per entendre què ens fa primats. El poder de la genòmica evolutiva aplicada a la biomedicina».\nA càrrec de Tomàs Marqués-Bonet\nProfessor d’investigació ICREA\, Institut de Biologia Evolutiva IBE (Universitat Pompeu Fabra-CSIC) \n  \n \n  \n–Bar de Ciències amb motiu de la publicació del Viatge del Beagle (Cràter Edicions\, 2023). Cafeteria de l’Octubre CCC\, 19.00h: \n«Avorresc el mar i tots els vaixells que naveguen per ell!»\nAmb Oriol Ràfols\, traductor i editor i Xavier Bellés\, biòleg. Modera: Reis Juan\, periodista \n \n  \n \n  \n—\nAmb el suport de:\nInstitut d’Estudis Catalans / Societat Catalana de Biologia / Acció Cultural del País Valencià / Octubre Centre de Cultura Contemporània (OCCC) / Càtedra de Divulgació de la Ciència-Unitat de Cultura Científica i Innovació de la Universitat de València (UV) / Fundació Espanyola per a la Ciència i la Tecnologia / Ministeri de Ciència i Innovació / Revista Mètode / Consell Superior d’Investigacions Científiques (CSIC) / Facultat de Ciències Biològiques (UV) / Museu d’Història Natural (UV) / Institut Cavanilles de Biodiversitat i Biologia Evolutiva (UV) / Institut de Biologia Integrativa de Sistemes (I2SysBio\, UV-CSIC).
URL:https://octubre.cat/activitat/dia-de-darwin-2024/
LOCATION:Espais diversos
CATEGORIES:Espai Ciència
ATTACH;FMTTYPE=image/jpeg:https://octubre.cat/www/wp-content/uploads/2023/12/R_dia-darwin-2024.jpg
END:VEVENT
END:VCALENDAR