BEGIN:VCALENDAR
VERSION:2.0
PRODID:-//Octubre Centre de Cultura Contemporània - ECPv5.1.6//NONSGML v1.0//EN
CALSCALE:GREGORIAN
METHOD:PUBLISH
X-WR-CALNAME:Octubre Centre de Cultura Contemporània
X-ORIGINAL-URL:https://octubre.cat
X-WR-CALDESC:Events for Octubre Centre de Cultura Contemporània
BEGIN:VTIMEZONE
TZID:Europe/Andorra
BEGIN:DAYLIGHT
TZOFFSETFROM:+0100
TZOFFSETTO:+0200
TZNAME:CEST
DTSTART:20220327T010000
END:DAYLIGHT
BEGIN:STANDARD
TZOFFSETFROM:+0200
TZOFFSETTO:+0100
TZNAME:CET
DTSTART:20221030T010000
END:STANDARD
END:VTIMEZONE
BEGIN:VEVENT
DTSTART;TZID=Europe/Andorra:20220208T190000
DTEND;TZID=Europe/Andorra:20220209T130000
DTSTAMP:20260420T163941
CREATED:20220114T101910Z
LAST-MODIFIED:20250629T101555Z
UID:17665-1644346800-1644411600@octubre.cat
SUMMARY:Dia de Darwin 2022
DESCRIPTION:Dimarts 8 de febrer \nCONVIURE AMB EL CORONAVIRUS\nBar de Ciències\, Cafeteria de l’Octubre CCC\, 19.00h \nA càrrec de Mireia Coscollà i Pilar Domingo-Calap\, investigadores del programa Ramón y Cajal a l’Institut de Biologia Integrativa de Sistemes I2SysBio (Universitat de València-CSIC)\nModera: Reis Juan\, periodista \n  \n \n  \nDimecres 9 de febrer \nHISTÒRIA GENÈTICA DE LA DESIGUALTAT\nConferència\, Sala Charles Darwin\, Campus de Burjassot-Paterna\, 13.00h \nA càrrec de Carles Lalueza-Fox\, Institut de Biologia Evolutiva IBE\, UPF-CSIC\, Barcelona\nAmb motiu de la publicació del seu llibre Inequality: a genetic history (MIT Press\, 2022) \n  \n \n— \nAmb el suport de:\nInstitut d’Estudis Catalans / Societat Catalana de Biologia / Acció Cultural del País Valencià / Octubre Centre de Cultura Contemporània / Càtedra de Divulgació de la Ciència-Unitat de Cultura Científica i Innovació de la Universitat de València (UV) / Fundació Espanyola per a la Ciència i la Tecnologia / Ministeri de Ciència i Innovació / Revista Mètode / Consell Superior d’Investigacions Científiques (CSIC) / Facultat de Ciències Biològiques (UV) / Museu d’Història Natural (UV) / Institut Cavanilles de Biodiversitat i Biologia Evolutiva (UV) / Institut de Biologia Integrativa de Sistemes (I2SysBio\, UV-CSIC) \nwww.darwinday.org
URL:https://octubre.cat/activitat/dia-de-darwin-2022/
LOCATION:Espais diversos
CATEGORIES:Espai Ciència
ATTACH;FMTTYPE=image/jpeg:https://octubre.cat/www/wp-content/uploads/2021/01/darwinday-horitzontal.jpg
END:VEVENT
END:VCALENDAR