BEGIN:VCALENDAR
VERSION:2.0
PRODID:-//Octubre Centre de Cultura Contemporània - ECPv5.1.6//NONSGML v1.0//EN
CALSCALE:GREGORIAN
METHOD:PUBLISH
X-WR-CALNAME:Octubre Centre de Cultura Contemporània
X-ORIGINAL-URL:https://octubre.cat
X-WR-CALDESC:Events for Octubre Centre de Cultura Contemporània
BEGIN:VTIMEZONE
TZID:Europe/Andorra
BEGIN:DAYLIGHT
TZOFFSETFROM:+0100
TZOFFSETTO:+0200
TZNAME:CEST
DTSTART:20190331T010000
END:DAYLIGHT
BEGIN:STANDARD
TZOFFSETFROM:+0200
TZOFFSETTO:+0100
TZNAME:CET
DTSTART:20191027T010000
END:STANDARD
END:VTIMEZONE
BEGIN:VEVENT
DTSTART;TZID=Europe/Andorra:20190212T190000
DTEND;TZID=Europe/Andorra:20190212T190000
DTSTAMP:20260421T165050
CREATED:20200729T173244Z
LAST-MODIFIED:20200729T191029Z
UID:11349-1549998000-1549998000@octubre.cat
SUMMARY:Dia de Darwin 2019
DESCRIPTION:Dimarts 12 de febrer a les 19.00h. Bar de Ciències “Intel·ligència artificial i robòtica”\, amb Carme Torras i Ramon López de Mantaras.	 \n  \n  \n\n 	 Activitat que es realitza a l’Octubre CCC  Dimarts 12 de febrer a les 19.00h  BAR DE CIÈNCIES: INTEL·LIGÈNCIA ARTIFICIAL i ROBÒTICA Amb motiu de la publicació del monogràfic de la revista Mètode “Interconnectats. Màquines i humans davant del segle 10101”.  Amb Carme Torras\, Institut de Robòtica i Informàtica Industrial (CSIC-UPC)\, Barcelona\,  i Ramon López de Mantaras\, Institut d’Investigació en Intel·ligència Artificial (CSIC)\, Bellaterra. Modera Reis Juan\, periodista.   Activitat que es realitza a la Sala Darwin\, Campus de Burjassot-Paterna\, Universitat de València  Dimecres 13 de febrer a les 13.00h.  CONFERÈNCIA “Una perspectiva genòmica de l’evolució dels cordats” Héctor Escrivà\, CNRS\, Évolution et développement des Chordés\, Observatoire Océanologique de Banyuls   — ORGANITZEN:  Institut d’Estudis Catalans Societat Catalana de Biologia Acció Cultural del País Valencià Octubre Centre de Cultura Contemporània Càtedra de Divulgació de la Ciència – Unitat de Cultura Científica i Innovació de la Universitat de València Fundació Espanyola per a la Ciència i la Tecnologia Consell Superior d’Investigacions Científiques Facultat de Ciències Biològiques (UV) Museu d’Història Natural (UV) Institut Cavanilles de Biodiversitat i Biologia Evolutiva (UV) Institut de Biologia Integrativa de Sistemes (I2SysBio\, UV-CSIC)  darwinday.org
URL:https://octubre.cat/activitat/dia-de-darwin-2019/
LOCATION:Cafeteria
CATEGORIES:Espai Ciència
ATTACH;FMTTYPE=image/jpeg:https://octubre.cat/www/wp-content/uploads/2020/07/activitat3194.jpg
END:VEVENT
END:VCALENDAR