BEGIN:VCALENDAR
VERSION:2.0
PRODID:-//Octubre Centre de Cultura Contemporània - ECPv5.1.6//NONSGML v1.0//EN
CALSCALE:GREGORIAN
METHOD:PUBLISH
X-WR-CALNAME:Octubre Centre de Cultura Contemporània
X-ORIGINAL-URL:https://octubre.cat
X-WR-CALDESC:Events for Octubre Centre de Cultura Contemporània
BEGIN:VTIMEZONE
TZID:Europe/Andorra
BEGIN:DAYLIGHT
TZOFFSETFROM:+0100
TZOFFSETTO:+0200
TZNAME:CEST
DTSTART:20160327T010000
END:DAYLIGHT
BEGIN:STANDARD
TZOFFSETFROM:+0200
TZOFFSETTO:+0100
TZNAME:CET
DTSTART:20161030T010000
END:STANDARD
END:VTIMEZONE
BEGIN:VEVENT
DTSTART;TZID=Europe/Andorra:20160210T190000
DTEND;TZID=Europe/Andorra:20160210T190000
DTSTAMP:20260421T171322
CREATED:20200729T171617Z
LAST-MODIFIED:20200729T185411Z
UID:10514-1455130800-1455130800@octubre.cat
SUMMARY:Dia de Darwin 2016
DESCRIPTION:Dimecres 10 de febrer a les 19.00h. Amb motiu de la publicació del núm. 411 de la revista Saó “Les polítiques ambientals valencianes”. Conversa sobre “L’Antropocè” amb Andreu Escrivà i Reis Juan.  \n  \n  \n\n Dia de Darwin 2016  Sala Darwin del Campus Burjassot-Paterna\, Universitat de València\, 12.30h  Conferència “L’origen de la cèl·lula eucariòtica” a càrrec de Toni Gabaldón\, professor d’investigació d’ICREA\, Centre de Regulació Genòmica\, Parc de Recerca Biomèdica de Barcelona.   Bar de Ciències a l’Octubre CCC\, 19.00h  Amb motiu de la publicació del núm. 411 de la revista Saó “Les polítiques ambientals valencianes”  l’antropocè “Els canvis ambientals planetaris recents suggereixen que la Terra ha pogut entrar en una nova era geològica dominada pels humans” (Lewis i Maslin\, Nature 2015).  Amb Andreu Escrivà\, investigador en ecologia\, consultor en sostenibilitat i divulgador ambiental. Modera: Reis Juan\, periodista.  Organitzat per: IEC\, ACPV\, Càtedra/FECyT\, CSIC\, Societat Catalana de Biologia\, Revista Saó
URL:https://octubre.cat/activitat/dia-de-darwin-2016/
LOCATION:Cafeteria
CATEGORIES:Espai Ciència
ATTACH;FMTTYPE=image/jpeg:https://octubre.cat/www/wp-content/uploads/2020/07/activitat2504.jpg
END:VEVENT
END:VCALENDAR