BEGIN:VCALENDAR
VERSION:2.0
PRODID:-//Octubre Centre de Cultura Contemporània - ECPv5.1.6//NONSGML v1.0//EN
CALSCALE:GREGORIAN
METHOD:PUBLISH
X-WR-CALNAME:Octubre Centre de Cultura Contemporània
X-ORIGINAL-URL:https://octubre.cat
X-WR-CALDESC:Events for Octubre Centre de Cultura Contemporània
BEGIN:VTIMEZONE
TZID:Europe/Andorra
BEGIN:DAYLIGHT
TZOFFSETFROM:+0100
TZOFFSETTO:+0200
TZNAME:CEST
DTSTART:20130331T010000
END:DAYLIGHT
BEGIN:STANDARD
TZOFFSETFROM:+0200
TZOFFSETTO:+0100
TZNAME:CET
DTSTART:20131027T010000
END:STANDARD
END:VTIMEZONE
BEGIN:VEVENT
DTSTART;TZID=Europe/Andorra:20130213T190000
DTEND;TZID=Europe/Andorra:20130213T190000
DTSTAMP:20260422T015853
CREATED:20200729T165934Z
LAST-MODIFIED:20200729T184024Z
UID:9477-1360782000-1360782000@octubre.cat
SUMMARY:Dia de Darwin 2013
DESCRIPTION:Dimecres 13 de febrer a les 19.00h: Bar de Ciències “El meu metge hauria de saber evolució?”\, amb David Comas\, Joan Brines i Núria Cadenes  \n  \n  \n\n Una iniciativa de l’Institut Cavanilles de Biodiversitat i Biologia Evolutiva\, la Facultat de Ciències Biològiques\, la Càtedra de Divulgació de la Ciència de la Universitat de València i Acció Cultural del País Valencià\, patrocinat per l’Institut d’Estudis Catalans (IEC) i la Societat Catalana de Biologia.  Bar de Ciències Dimecres 13 de febrer\, cafeteria de l’OCCC\, 19h  “El meu metge hauria de saber evolució?” Quina és la importància del coneixement evolutiu en la comprensió de la salut i la malaltia? La medicina altera el curs de l’evolució humana? I el dels patògens? Si el meu metge hauria de saber d’evolució\, què fan les facultats de medicina al respecte?  Amb David Comas\, professor d’Evolució Humana i Salut en el Grau de Medicina de la Universitat Pompeu Fabra\, Joan Brines\, Cap del Servei de Pediatria de l’Hospital Clínic Universitari de València i Núria Cadenes\, escriptora i llibretera.   ACTIVITATS A LA UNIVERSITAT DE VALÈNCIA  Al Campus de Burjassot-Paterna de la Universitat de València\, Sala Charles Darwin  Dijous 14 de febrer a les 12.30h Conferència “Origen y evolución temprana de la vida” A càrrec d’Arturo Becerra\, professor de la Universidad Nacional Autònoma de Mèxic (UNAM) i investigador visitant de l’Institut Cavanilles de Biodiversitat i Biologia Evolutiva de la Universitat de València.   Dijous 21 de febrer a les 12.30h Teatre “Darwin” Adaptació del text Re:Design\, de Craig Baxter (basat en la correspondència entre Darwin i Gray). Versió de J.V. Martínez Luciano i Toni Lluch. Juli Cantó és Charles Darwin i Enric Juezas és Asa Gray. Direcció Escènica: Imma Sancho. Producció de Dramatúrgia 2000. Al finalitzar l’obra hi haurà un col·loqui.
URL:https://octubre.cat/activitat/dia-de-darwin-2013/
LOCATION:No definit
CATEGORIES:Espai Ciència
ATTACH;FMTTYPE=image/jpeg:https://octubre.cat/www/wp-content/uploads/2020/07/activitat1729.jpg
END:VEVENT
END:VCALENDAR