BEGIN:VCALENDAR
VERSION:2.0
PRODID:-//Octubre Centre de Cultura Contemporània - ECPv5.1.6//NONSGML v1.0//EN
CALSCALE:GREGORIAN
METHOD:PUBLISH
X-WR-CALNAME:Octubre Centre de Cultura Contemporània
X-ORIGINAL-URL:https://octubre.cat
X-WR-CALDESC:Events for Octubre Centre de Cultura Contemporània
BEGIN:VTIMEZONE
TZID:Europe/Andorra
BEGIN:DAYLIGHT
TZOFFSETFROM:+0100
TZOFFSETTO:+0200
TZNAME:CEST
DTSTART:20120325T010000
END:DAYLIGHT
BEGIN:STANDARD
TZOFFSETFROM:+0200
TZOFFSETTO:+0100
TZNAME:CET
DTSTART:20121028T010000
END:STANDARD
END:VTIMEZONE
BEGIN:VEVENT
DTSTART;TZID=Europe/Andorra:20120209T190000
DTEND;TZID=Europe/Andorra:20120209T190000
DTSTAMP:20260424T055315
CREATED:20200729T165707Z
LAST-MODIFIED:20200730T042936Z
UID:9330-1328814000-1328814000@octubre.cat
SUMMARY:Dia de Darwin 2012
DESCRIPTION:Dimecres 8 i dijous 9 de febrer\, bar de ciències i conferències en commemoració del Dia de Darwin 2012  \n  \n  \n\n Dimecres 8 de febrer  Espai Ciència – Circuits de Ciència A l’Octubre Centre de Cultura Contemporània  19.00h: Bar de Ciències: “Som esclaus dels nostres gens?” Som realment lliures o ens condiciona la biologia? Quina és la base genètica del llenguatge? La violència és cultural o natural? Hi ha un gen de la creativitat o de la religiositat?  Amb motiu de la publicació del llibre L’enigma de la llibertat: una perspectiva biològica i evolutiva de la llibertat humana (Bromera/PUV\, 2011)  Intervenen: David Bueno (Universitat de Barcelona) i Ester Desfilis (Universidad Complutense). Modera: Núria Cadenes (periodista d’El Temps).   Dijous 9 de febrer  A la sala Charles Darwin\, Aulari Interfacultatiu\, Campus de Burjassot-Paterna  12.30h: Conferència “Autocatàlisi\, RNA i l’origen de la vida”  A càrrec de Mauro Santos (catedràtic de Genètica de la Universitat Autònoma de Barcelona).  Autocatàlisi\, RNA i l’origen de la vida El problema de l’origen de la vida és també el problema de l‘origen de la capacitat d’evolucionar por selecció natural. No es pot  entendre la vida sense els seus dos components essencials: metabolisme i  informació. En gran part el debat sobre l’origen de la vida s’ha  centrat en quin d’aquests dos components s’originà primer. La resposta passa por desnugar el següent nuc gordià: és improbable que polímers com l’RNA s’originaren sense l’evolució prèvia d’un metabolisme primitiu\, però també és poc plausible que un metabolisme primitiu puga evolucionar sense un control genètic previ. És evident que la vida desnugà el nuc gordià. La solució consisteix en entendre com un sistema autocatalític pot arribar a ser una unitat evolutiva amb les següents propietats:  reproducció\, herència i variació.  Una iniciativa de l’Institut Cavanilles de Biodiversitat i Biologia Evolutiva\, la Facultat de Ciències Biològiques\, la Càtedra de Divulgació de la Ciència de la Universitat de València i Acció Cultural del País Valencià i patrocinat per l’Institut d’Estudis Catalans (IEC)\, la Societat Catalana de Biologia i la CAM.
URL:https://octubre.cat/activitat/dia-de-darwin-2012/
LOCATION:No definit
CATEGORIES:Espai Ciència
ATTACH;FMTTYPE=image/jpeg:https://octubre.cat/www/wp-content/uploads/2020/07/activitat1572.jpg
END:VEVENT
END:VCALENDAR