BEGIN:VCALENDAR
VERSION:2.0
PRODID:-//Octubre Centre de Cultura Contemporània - ECPv5.1.6//NONSGML v1.0//EN
CALSCALE:GREGORIAN
METHOD:PUBLISH
X-WR-CALNAME:Octubre Centre de Cultura Contemporània
X-ORIGINAL-URL:https://octubre.cat
X-WR-CALDESC:Events for Octubre Centre de Cultura Contemporània
BEGIN:VTIMEZONE
TZID:Europe/Andorra
BEGIN:DAYLIGHT
TZOFFSETFROM:+0100
TZOFFSETTO:+0200
TZNAME:CEST
DTSTART:20100328T010000
END:DAYLIGHT
BEGIN:STANDARD
TZOFFSETFROM:+0200
TZOFFSETTO:+0100
TZNAME:CET
DTSTART:20101031T010000
END:STANDARD
END:VTIMEZONE
BEGIN:VEVENT
DTSTART;TZID=Europe/Andorra:20101202T200000
DTEND;TZID=Europe/Andorra:20101202T200000
DTSTAMP:20260420T191944
CREATED:20200729T165234Z
LAST-MODIFIED:20200730T042634Z
UID:9053-1291320000-1291320000@octubre.cat
SUMMARY:DEX 6272
DESCRIPTION:Dijous 2 de desembre\, a les 20.00h: Cicle Melodies Animades. DEX 6272 (València).   \n  \n  \n\nDEX 6272 es va crear a les darreries de 2008\, quan Ferran Pardo i Javier Lario\, abans components del grup Soul Atac\, van decidir embarcar-se\, al costat de Miguel Calvo\, en un nou projecte que combina la seua experiència en diferents estils musicals\, des del punk rock de Los Vivos fins al swing de Vicente Julià Swing Band\, passant\, com no podia ser d’altra manera\, pel colorit funk soul del que va ser la seua banda anterior\, Soul Atac\, referent inevitable. Tot aparellat amb la informàtica i les projeccions de vídeo. El seu espectacle retrà homenatge al cinema de ciència-ficció: Metròpoli\, Destination Moon\, La màquina del temps\, Blade Runner\, Star Trek o Star Wars\, entre altres. L’objectiu: emocionar i sorprendre.
URL:https://octubre.cat/activitat/dex-6272/
LOCATION:No definit
CATEGORIES:Cicle de música pop
ATTACH;FMTTYPE=image/jpeg:https://octubre.cat/www/wp-content/uploads/2020/07/activitat1315.jpg
END:VEVENT
END:VCALENDAR