BEGIN:VCALENDAR
VERSION:2.0
PRODID:-//Octubre Centre de Cultura Contemporània - ECPv5.1.6//NONSGML v1.0//EN
CALSCALE:GREGORIAN
METHOD:PUBLISH
X-WR-CALNAME:Octubre Centre de Cultura Contemporània
X-ORIGINAL-URL:https://octubre.cat
X-WR-CALDESC:Events for Octubre Centre de Cultura Contemporània
BEGIN:VTIMEZONE
TZID:Europe/Andorra
BEGIN:DAYLIGHT
TZOFFSETFROM:+0100
TZOFFSETTO:+0200
TZNAME:CEST
DTSTART:20120325T010000
END:DAYLIGHT
BEGIN:STANDARD
TZOFFSETFROM:+0200
TZOFFSETTO:+0100
TZNAME:CET
DTSTART:20121028T010000
END:STANDARD
END:VTIMEZONE
BEGIN:VEVENT
DTSTART;TZID=Europe/Andorra:20120418T190000
DTEND;TZID=Europe/Andorra:20120418T190000
DTSTAMP:20260420T214311
CREATED:20200729T165703Z
LAST-MODIFIED:20200730T042933Z
UID:9326-1334775600-1334775600@octubre.cat
SUMMARY:Desxifrant l'escriptura de les civilitzacions perdudes
DESCRIPTION:Dimecres 18 d’abril a les 19.00h: conferència “Desxifrant l’escriptura de les civilitzacions perdudes” (cicle Alan Turing)\, a càrrec de David Juher (UdG)  \n  \n  \n\nA càrrec de David Juher (Universitat de Girona)  Cicle de conferències sobre Alan Turing  El desxiframent de l’escriptura d’antigues civilitzacions és un repte intel·lectual de primer ordre que matemàtics\, lingüistes\, arqueòlegs i historiadors han sabut superar en el cas dels jeroglífics egipcis i maies. En canvi\, les inscripcions de l’Illa de Pasqua\, el disc d’Efaistos\, la llengua etrusca o l’escriptura dels ibers són\, encara avui\, misteris inexpugnables. Repassarem els èxits i els fracassos dels científics pel que fa al desxiframent d’escriptures i veurem com es poden quantificar les característiques del llenguatge natural (entropia\, redundància) que ens poden ajudar en aquesta tasca. Acabarem aquest recorregut històric al segle XXI\, veient de quina manera aquests conceptes ens ensenyen a codificar la informació digital de manera òptima.  David Juher és doctor en Matemàtiques per la Universitat Autònoma de Barcelona i professor Departament d’Informàtica i Matemàtica Aplicada de la Universitat de Girona des de 1995. El seus àmbits de recerca són els sistemes dinàmics discrets i les xarxes complexes. Exerceix activament la divulgació científica en forma de conferències i cursos. És autor del llibre L’art de la comunicació secreta: el llenguatge de la Criptografia (Barcelona: Llibres de l’Índex\, 2004).
URL:https://octubre.cat/activitat/desxifrant-lescriptura-de-les-civilitzacions-perdudes/
LOCATION:No definit
CATEGORIES:Espai Ciència
ATTACH;FMTTYPE=image/jpeg:https://octubre.cat/www/wp-content/uploads/2020/07/activitat1568.jpg
END:VEVENT
END:VCALENDAR