BEGIN:VCALENDAR
VERSION:2.0
PRODID:-//Octubre Centre de Cultura Contemporània - ECPv5.1.6//NONSGML v1.0//EN
CALSCALE:GREGORIAN
METHOD:PUBLISH
X-WR-CALNAME:Octubre Centre de Cultura Contemporània
X-ORIGINAL-URL:https://octubre.cat
X-WR-CALDESC:Events for Octubre Centre de Cultura Contemporània
BEGIN:VTIMEZONE
TZID:Europe/Andorra
BEGIN:DAYLIGHT
TZOFFSETFROM:+0100
TZOFFSETTO:+0200
TZNAME:CEST
DTSTART:20160327T010000
END:DAYLIGHT
BEGIN:STANDARD
TZOFFSETFROM:+0200
TZOFFSETTO:+0100
TZNAME:CET
DTSTART:20161030T010000
END:STANDARD
END:VTIMEZONE
BEGIN:VEVENT
DTSTART;TZID=Europe/Andorra:20160309T190000
DTEND;TZID=Europe/Andorra:20160309T190000
DTSTAMP:20260421T151731
CREATED:20200729T171703Z
LAST-MODIFIED:20200729T185431Z
UID:10565-1457550000-1457550000@octubre.cat
SUMMARY:'Después de mi'\, de Jesús Mora
DESCRIPTION:Dimecres 9 de març a les 19.00h. Projecció inclosa en el cicle de cinema social. Entrada lliure.  \n  \n  \n\n Toni\, 45 anys\, mor atropellat en un camí\, als afores d’un poble de La Manxa. El seu pare\, Antonio\, 70 anys\, policia jubilat\, acudeix per fer-se càrrec del cadàver. Ana\, 25 anys\, a Romania fou infermera i aquí ha estat quasi de tot. Era la núvia de Toni i el va deixar pocs dies abans de l’accident. Un record agredolç que s’esforça per deixar enrere. El pare i l’ex-núvia es coneixen quan ja ha passat tot. Sols\, fora de lloc\, units per algú que ja no existeix.  Direcció i guió: Jesús Mora (2012) V.O. en castellà Música: Pakito Álvarez Repartiment: Paco Sagarzazu\, José Márquez\, Candela Fernández\, Bianca Zelujec Productora: Danseuse Films Durada: 70’  — Entrada lliure Organitzat amb la col·laboració d’El Cine Social Coordinació del cicle: Antonio Lloréns
URL:https://octubre.cat/activitat/despues-de-mi-de-jesus-mora/
LOCATION:Sala d’actes
CATEGORIES:Tercer cicle de cinema social
ATTACH;FMTTYPE=image/jpeg:https://octubre.cat/www/wp-content/uploads/2020/07/activitat2532.jpg
END:VEVENT
END:VCALENDAR