BEGIN:VCALENDAR
VERSION:2.0
PRODID:-//Octubre Centre de Cultura Contemporània - ECPv5.1.6//NONSGML v1.0//EN
CALSCALE:GREGORIAN
METHOD:PUBLISH
X-WR-CALNAME:Octubre Centre de Cultura Contemporània
X-ORIGINAL-URL:https://octubre.cat
X-WR-CALDESC:Events for Octubre Centre de Cultura Contemporània
BEGIN:VTIMEZONE
TZID:Europe/Andorra
BEGIN:DAYLIGHT
TZOFFSETFROM:+0100
TZOFFSETTO:+0200
TZNAME:CEST
DTSTART:20080330T010000
END:DAYLIGHT
BEGIN:STANDARD
TZOFFSETFROM:+0200
TZOFFSETTO:+0100
TZNAME:CET
DTSTART:20081026T010000
END:STANDARD
END:VTIMEZONE
BEGIN:VEVENT
DTSTART;TZID=Europe/Andorra:20080417T200000
DTEND;TZID=Europe/Andorra:20080417T200000
DTSTAMP:20260420T210232
CREATED:20200729T181835Z
LAST-MODIFIED:20200730T035719Z
UID:12554-1208462400-1208462400@octubre.cat
SUMMARY:Després del reconeixement. Diàleg amb les escriptores Esperança Camps i Maite Salord
DESCRIPTION:Dijous 17\, 19.30h.  La proposta d’aquest diàleg amb les dues escriptores té com a objectiu eixamplar el marc de presentació de la literatura menorquina tot conversant amb Esperança Camps\, resident a València\, i Maite Salord\, resident a l’illa.     \n  \n  \n\nAl llarg del 2007 Esperança Camps i Maite Salord han estat completament reconegudes per la seua tasca literària. La proposta d’aquest diàleg amb les dues escriptores té com a objectiu eixamplar el marc de presentació de la literatura menorquina tot conversant amb Esperança Camps\, resident a València\, i Maite Salord\, resident a l’illa. El leiv motiv de la trobada: després del reconeixement ens permetrà comentar la popularitat adquirida per ambdues\, atés el volum de la demanda de participació en actes culturals de diversa mena.  Presentarà l’acte Empar Marco\, periodista delegada de TV3 al País Valencià. Hi assistirà Joan Lluís Torres\, conseller de Cultura\, Patrimoni\, Educació i Joventut del Consell Insular de Menorca.
URL:https://octubre.cat/activitat/despres-del-reconeixement-dialeg-amb-les-escriptores-esperanca-camps-i-maite-salord/
LOCATION:No definit
CATEGORIES:Literatura
ATTACH;FMTTYPE=image/jpeg:https://octubre.cat/www/wp-content/uploads/2020/07/presentacions1.jpg
END:VEVENT
END:VCALENDAR