BEGIN:VCALENDAR
VERSION:2.0
PRODID:-//Octubre Centre de Cultura Contemporània - ECPv5.1.6//NONSGML v1.0//EN
CALSCALE:GREGORIAN
METHOD:PUBLISH
X-WR-CALNAME:Octubre Centre de Cultura Contemporània
X-ORIGINAL-URL:https://octubre.cat
X-WR-CALDESC:Events for Octubre Centre de Cultura Contemporània
BEGIN:VTIMEZONE
TZID:Europe/Andorra
BEGIN:DAYLIGHT
TZOFFSETFROM:+0100
TZOFFSETTO:+0200
TZNAME:CEST
DTSTART:20090329T010000
END:DAYLIGHT
BEGIN:STANDARD
TZOFFSETFROM:+0200
TZOFFSETTO:+0100
TZNAME:CET
DTSTART:20091025T010000
END:STANDARD
END:VTIMEZONE
BEGIN:VEVENT
DTSTART;TZID=Europe/Andorra:20090226T193000
DTEND;TZID=Europe/Andorra:20090226T193000
DTSTAMP:20260424T131455
CREATED:20200729T182323Z
LAST-MODIFIED:20200729T182323Z
UID:12763-1235676600-1235676600@octubre.cat
SUMMARY:Desigualtats en la salut
DESCRIPTION:Dijous 26 de febrer\, a les 19.30h:  “Desigualtats en la salut”\, a càrrec de Rosanna Peiró.   \n  \n  \n\nConferència a càrrec de Rosanna Peiró\, membre del CIBER d’Epidemiologia i Salut Pública. Treballa en la Oficina del Pla del Càncer de la Direcció General de Salut Pública de la Conselleria de Sanitat.   Organitzada per la Societat Valenciana de Ciències de la Salut
URL:https://octubre.cat/activitat/desigualtats-en-la-salut/
LOCATION:No definit
CATEGORIES:Societat Valenciana de Ciències de la Salut
ATTACH;FMTTYPE=image/jpeg:https://octubre.cat/www/wp-content/uploads/2020/07/activitat788.jpg
END:VEVENT
END:VCALENDAR