BEGIN:VCALENDAR
VERSION:2.0
PRODID:-//Octubre Centre de Cultura Contemporània - ECPv5.1.6//NONSGML v1.0//EN
CALSCALE:GREGORIAN
METHOD:PUBLISH
X-WR-CALNAME:Octubre Centre de Cultura Contemporània
X-ORIGINAL-URL:https://octubre.cat
X-WR-CALDESC:Events for Octubre Centre de Cultura Contemporània
BEGIN:VTIMEZONE
TZID:Europe/Andorra
BEGIN:DAYLIGHT
TZOFFSETFROM:+0100
TZOFFSETTO:+0200
TZNAME:CEST
DTSTART:20120325T010000
END:DAYLIGHT
BEGIN:STANDARD
TZOFFSETFROM:+0200
TZOFFSETTO:+0100
TZNAME:CET
DTSTART:20121028T010000
END:STANDARD
END:VTIMEZONE
BEGIN:VEVENT
DTSTART;TZID=Europe/Andorra:20120621T190000
DTEND;TZID=Europe/Andorra:20120621T190000
DTSTAMP:20260422T055304
CREATED:20200729T165804Z
LAST-MODIFIED:20200729T183902Z
UID:9388-1340305200-1340305200@octubre.cat
SUMMARY:Descontentament i transformació
DESCRIPTION:Dijous 21 de juny a les 19.00h. Debat sobre formes d’acció i participació política al segle XXI\, amb Joan Subirats\, Carmen Castro i Andrés Boix. Organitzat per la Coalició Compromís  \n  \n  \n\nFormes d’acció i participació política al segle XXI  Els últims anys\, les noves xarxes comunicatives\, els canvis econòmics i les consegüents noves formes de relació social han propiciat models organitzatius i d’acció política emergents. Des de la Coalició Compromís per València contemplem amb expectació esta nova realitat i hi volem animar el debat i la investigació. Ens interessa debatre en relació a com s’està articulant una part de la societat\, com està adquirint protagonisme polític\, quins són els discursos\, les eines\, les estratègies i les perspectives (històriques\, ideològiques\, de gènere…)\, i connectant amb això\, quin és el paper que poden jugar els partits polítics\, dins de la crisi del sistema polític representatiu.  Així\, hem organitzat una taula-debat per abordar esta temàtica des de perspectives diverses:  –“Del rebuig social a la proposta política: com materialitzar un somni”\, a càrrec de Joan Subirats: catedràtic de Ciència Política de la UAB. Investigador de l’Institut Universitàri de Govern i Polítiques Públiques (UAB)  –“Noves tecnologies i activisme polític”\, a càrrec de Carmen Castro: economista\, consultora de gènere\, experta en polítiques d’igualtat i TICs  –“Legalitat i legitimitat de la protesta social al carrer”\, a càrrec d’Andrés Boix: professor titular de Dret Administratiu\, Dept. Administratiu i Processal (UV)  Organitzat per Coalició Compromís per València
URL:https://octubre.cat/activitat/descontentament-i-transformacio/
LOCATION:No definit
CATEGORIES:Conferències i congressos
ATTACH;FMTTYPE=image/jpeg:https://octubre.cat/www/wp-content/uploads/2020/07/conferencia1.jpg
END:VEVENT
END:VCALENDAR