BEGIN:VCALENDAR
VERSION:2.0
PRODID:-//Octubre Centre de Cultura Contemporània - ECPv5.1.6//NONSGML v1.0//EN
CALSCALE:GREGORIAN
METHOD:PUBLISH
X-WR-CALNAME:Octubre Centre de Cultura Contemporània
X-ORIGINAL-URL:https://octubre.cat
X-WR-CALDESC:Events for Octubre Centre de Cultura Contemporània
BEGIN:VTIMEZONE
TZID:Europe/Andorra
BEGIN:DAYLIGHT
TZOFFSETFROM:+0100
TZOFFSETTO:+0200
TZNAME:CEST
DTSTART:20100328T010000
END:DAYLIGHT
BEGIN:STANDARD
TZOFFSETFROM:+0200
TZOFFSETTO:+0100
TZNAME:CET
DTSTART:20101031T010000
END:STANDARD
END:VTIMEZONE
BEGIN:VEVENT
DTSTART;TZID=Europe/Andorra:20100324T193000
DTEND;TZID=Europe/Andorra:20100324T193000
DTSTAMP:20260420T210516
CREATED:20200729T164820Z
LAST-MODIFIED:20200729T182851Z
UID:8781-1269459000-1269459000@octubre.cat
SUMMARY:Des de la Mediterrània: dos grans lírics italians
DESCRIPTION:Dimecres 24 de març\, a les 19.30h: “Des de la Mediterrània: dos grans lírics italians”. Amb el quartet de corda A piacere.   \n  \n  \n\nDes de la Mediterrània: Dos grans lírics italians  G.Donizetti (1797-1848)  Quartet de corda nº5 en Mi menor   L.Cherubini (1760-1842)  Quartet de corda nº4 en Mi Major
URL:https://octubre.cat/activitat/des-de-la-mediterrania-dos-grans-lirics-italians/
LOCATION:No definit
CATEGORIES:Cicle de Música de Cambra
ATTACH;FMTTYPE=image/jpeg:https://octubre.cat/www/wp-content/uploads/2020/07/activitat1127.jpg
END:VEVENT
END:VCALENDAR