BEGIN:VCALENDAR
VERSION:2.0
PRODID:-//Octubre Centre de Cultura Contemporània - ECPv5.1.6//NONSGML v1.0//EN
CALSCALE:GREGORIAN
METHOD:PUBLISH
X-WR-CALNAME:Octubre Centre de Cultura Contemporània
X-ORIGINAL-URL:https://octubre.cat
X-WR-CALDESC:Events for Octubre Centre de Cultura Contemporània
BEGIN:VTIMEZONE
TZID:Europe/Andorra
BEGIN:DAYLIGHT
TZOFFSETFROM:+0100
TZOFFSETTO:+0200
TZNAME:CEST
DTSTART:20080330T010000
END:DAYLIGHT
BEGIN:STANDARD
TZOFFSETFROM:+0200
TZOFFSETTO:+0100
TZNAME:CET
DTSTART:20081026T010000
END:STANDARD
END:VTIMEZONE
BEGIN:VEVENT
DTSTART;TZID=Europe/Andorra:20080917T193000
DTEND;TZID=Europe/Andorra:20080917T193000
DTSTAMP:20260421T004450
CREATED:20200729T181947Z
LAST-MODIFIED:20200730T035816Z
UID:12627-1221679800-1221679800@octubre.cat
SUMMARY:Dependència i autonomia en la salut: la medicalització de la vida quotidiana
DESCRIPTION:Dimecres 17 de setembre a les 19.30h: Dependència i autonomia en la salut: la medicalització de la vida quotidiana  \n  \n  \n\n32 anys després de la definició de salut del Congrés de Metges i Biòlegs de  Perpinyà (1976)  Amb  Oriol Ramis\, metge consultor i coordinador de la taula “32 anys després de la definició de salut de Perpinyà”  del XVIII Congrés de Metges i Biòlegs en Llengua Catalana que tindrà lloc a girona el 13 d’octubre del 2008  Josep Clusa\, metge psicoanalista\, President de la Fundació Congrés Català de Salut Mental
URL:https://octubre.cat/activitat/dependencia-i-autonomia-en-la-salut-la-medicalitzacio-de-la-vida-quotidiana/
LOCATION:No definit
CATEGORIES:Societat Valenciana de Ciències de la Salut
ATTACH;FMTTYPE=image/jpeg:https://octubre.cat/www/wp-content/uploads/2020/07/conferencia1.jpg
END:VEVENT
END:VCALENDAR