BEGIN:VCALENDAR
VERSION:2.0
PRODID:-//Octubre Centre de Cultura Contemporània - ECPv5.1.6//NONSGML v1.0//EN
CALSCALE:GREGORIAN
METHOD:PUBLISH
X-WR-CALNAME:Octubre Centre de Cultura Contemporània
X-ORIGINAL-URL:https://octubre.cat
X-WR-CALDESC:Events for Octubre Centre de Cultura Contemporània
BEGIN:VTIMEZONE
TZID:Europe/Andorra
BEGIN:DAYLIGHT
TZOFFSETFROM:+0100
TZOFFSETTO:+0200
TZNAME:CEST
DTSTART:20120325T010000
END:DAYLIGHT
BEGIN:STANDARD
TZOFFSETFROM:+0200
TZOFFSETTO:+0100
TZNAME:CET
DTSTART:20121028T010000
END:STANDARD
END:VTIMEZONE
BEGIN:VEVENT
DTSTART;TZID=Europe/Andorra:20120202T190000
DTEND;TZID=Europe/Andorra:20120202T190000
DTSTAMP:20260424T084858
CREATED:20200729T165713Z
LAST-MODIFIED:20200730T042940Z
UID:9336-1328209200-1328209200@octubre.cat
SUMMARY:'Democràcia real ja? Poder constituent i revolució democràtica'
DESCRIPTION:Dijous 2 de febrer a les 19.30h: “Democràcia real ja?”\, amb Rubén Martínez Dalmau i Roberto Viciano  \n  \n  \n\nEls debats de la Fundació CEPS “Democràcia real ja? Poder constituent i revolució democràtica”  A càrrec de Rubén Martínez Dalmau (professor de Dret Constitucional de la Universitat de València)\, presentat per Roberto Viciano (professor de Dret Constitucional de la Universitat de València)
URL:https://octubre.cat/activitat/democracia-real-ja-poder-constituent-i-revolucio-democratica/
LOCATION:No definit
CATEGORIES:Conferències i congressos
ATTACH;FMTTYPE=image/jpeg:https://octubre.cat/www/wp-content/uploads/2020/07/conferencia1.jpg
END:VEVENT
END:VCALENDAR