BEGIN:VCALENDAR
VERSION:2.0
PRODID:-//Octubre Centre de Cultura Contemporània - ECPv5.1.6//NONSGML v1.0//EN
CALSCALE:GREGORIAN
METHOD:PUBLISH
X-WR-CALNAME:Octubre Centre de Cultura Contemporània
X-ORIGINAL-URL:https://octubre.cat
X-WR-CALDESC:Events for Octubre Centre de Cultura Contemporània
BEGIN:VTIMEZONE
TZID:Europe/Andorra
BEGIN:DAYLIGHT
TZOFFSETFROM:+0100
TZOFFSETTO:+0200
TZNAME:CEST
DTSTART:20070325T010000
END:DAYLIGHT
BEGIN:STANDARD
TZOFFSETFROM:+0200
TZOFFSETTO:+0100
TZNAME:CET
DTSTART:20071028T010000
END:STANDARD
END:VTIMEZONE
BEGIN:VEVENT
DTSTART;TZID=Europe/Andorra:20071109T200000
DTEND;TZID=Europe/Andorra:20071109T200000
DTSTAMP:20260420T180745
CREATED:20200729T181523Z
LAST-MODIFIED:20200730T035456Z
UID:12371-1194638400-1194638400@octubre.cat
SUMMARY:Delacrew
DESCRIPTION:Divendres\, 20 h. Actuació de Delacrew\, l’acció creativa dela qual abasta tant a la post producció de videoclips com a la producció musical\, el disseny gràfic\, el desenvolupament web i de software.   \n  \n  \n\nDELACREW naix a València l’any 2004 de la fusió de les formacions Redribbon i Softless. Actualment desenvolupa la seua activitat a Barcelona com a productors de video i audio. El grup el composen Bruno Farinós\, Juanjo Ortiz i Juan Reig a.k.a. REZ.  Després d’una intensa i dilatada experiència en esdeveniments de cultura electrònica i en clubs de ball com a videojockeys\, DELACREW decideix fer un pas endavant en la creació digital underground i mostrar-la fora del marc d’oci habitual\, a més d’endinsar-se en la producció de música electrònica.  DELACREW abasta la seua acció creativa tant a la post producció de videoclips com a la producció musical\, el disseny gràfic\, el desenvolupament web i de software\, conferències\, així com comissariats d’exposicions i festivals.  Al 2006 DELACREW afegeix el component d’audio i es consolida com a formació de productors de drum & bass i video que porten la seua creació al terreny del directe audiovisual en forma de live.   El seu set de directe és dels únics sets nacionals en els que es combina drum&bass i veejing\, fet que els ha portat a estar presents en les edicions del Drum&Bass Meeting 2006 (Valencia) i REC 2007 (Madrid).  Les sessions de DELACREW es caracteritzen per la intensitat de la posada en escena i l’ús de les creacions pròpies des del video més urbanita a imposibles i elegants espais 3D. I tot açò\, unit a una gran dosi de grafisme tecnològic\, fa d’aquestes sessions obres que romanen\, pel general\, fora de l’experiència visual quotidiana de l’espectador.  El llenguatge visual de  DELACREW s’articula sobre conceptes globals\, subconscients\, comunes\, el que fa que el seu discurs siga comprés en països tan diferents culturalment com Japó\, Gran Bretanya\, Alemanya o Bèlgica. Visualment DELACREW desenvolupa un llenguatge personal i al mateix temps universal.  Aquesta formació ha guanyat molts premis\, com ara el 1r Premi del VJ Meeting Nacional celebrat a València a l’any 2004\, ha estat present en els clubs referents a Espanya en matèria underground com la Florida 135\, la Real\, Pulse\, KGB\, the Loft\, Cube\, Industrial Copera\, Emotion\, Metro\, Arena\, Copelia\, Republica\, Le Club…  Igualment han actuat en infinitat de festivals internacionals com “I love Techno” (Bèlgica) \,”City Parade” (Bèlgica)\, “Natural One”(Alemanya) i nacionals com “Arco-Decibelio 2005-2006”\, “Viñarock”\, “REC”\, “Observatori”..  També han realitzat sessions visuals amb deejays internacionals de techno\, house i drum & bass com ara Laurent Garnier\, Miss Kittin\, Mistress Barbara\, Carl Cox\, John Acuaviva\, Jeff Mills\, Luke Slater\, Cristian Varela\, Marco Bailey\, Gaetano Parisio\, Gay Le San\, Zinc\, Aphrodite\, Hype\, J.Magik\, Total Science …   Pàgina web del grup  Blog del grup
URL:https://octubre.cat/activitat/delacrew/
LOCATION:No definit
CATEGORIES:Cicle S0N1V1S10
ATTACH;FMTTYPE=image/jpeg:https://octubre.cat/www/wp-content/uploads/2020/07/activitat345.jpg
END:VEVENT
END:VCALENDAR