BEGIN:VCALENDAR
VERSION:2.0
PRODID:-//Octubre Centre de Cultura Contemporània - ECPv5.1.6//NONSGML v1.0//EN
CALSCALE:GREGORIAN
METHOD:PUBLISH
X-WR-CALNAME:Octubre Centre de Cultura Contemporània
X-ORIGINAL-URL:https://octubre.cat
X-WR-CALDESC:Events for Octubre Centre de Cultura Contemporània
BEGIN:VTIMEZONE
TZID:Europe/Andorra
BEGIN:DAYLIGHT
TZOFFSETFROM:+0100
TZOFFSETTO:+0200
TZNAME:CEST
DTSTART:20180325T010000
END:DAYLIGHT
BEGIN:STANDARD
TZOFFSETFROM:+0200
TZOFFSETTO:+0100
TZNAME:CET
DTSTART:20181028T010000
END:STANDARD
END:VTIMEZONE
BEGIN:VEVENT
DTSTART;TZID=Europe/Andorra:20180420T193000
DTEND;TZID=Europe/Andorra:20180420T193000
DTSTAMP:20260421T150225
CREATED:20200729T172514Z
LAST-MODIFIED:20200729T185807Z
UID:11089-1524252600-1524252600@octubre.cat
SUMMARY:'Del despit a la passió'\, de M. Ignasi Chilet i Torres
DESCRIPTION:Divendres 20 d’abril a les 19.30h. Espectacle de poesia i música vinculat a l’exposició “L’hivernacle del desig”. Entrada lliure.  \n  \n  \n\n Poesia i música  Capítol I de L’hivernacle del desig sobre la persona com a objecte / subjecte d’amor. L’hivernacle\, metàfora del lloc que permet la floració de tan preciada flor\, el desig. Un cant a l’erotització de la vida quotidiana\, antídot per a l’avorriment.  Aquesta activitat forma part de l’exposició L’hivernacle del desig que es pot visitar a l’Octubre CCC fins el 25 d’abril.  Composició\, piano i veu: Miquel Juan Intèrprets: Empar Giménez\, Dolors Pérez\, Maria Josep Albert\, Ignasi Chilet Col·laboració en direcció i escenografia: Jaume Pérez  Entrada lliure
URL:https://octubre.cat/activitat/del-despit-a-la-passio-de-m-ignasi-chilet-i-torres/
CATEGORIES:Literatura
ATTACH;FMTTYPE=image/jpeg:https://octubre.cat/www/wp-content/uploads/2020/07/activitat2805.jpg
END:VEVENT
END:VCALENDAR