BEGIN:VCALENDAR
VERSION:2.0
PRODID:-//Octubre Centre de Cultura Contemporània - ECPv5.1.6//NONSGML v1.0//EN
CALSCALE:GREGORIAN
METHOD:PUBLISH
X-WR-CALNAME:Octubre Centre de Cultura Contemporània
X-ORIGINAL-URL:https://octubre.cat
X-WR-CALDESC:Events for Octubre Centre de Cultura Contemporània
BEGIN:VTIMEZONE
TZID:Europe/Andorra
BEGIN:DAYLIGHT
TZOFFSETFROM:+0100
TZOFFSETTO:+0200
TZNAME:CEST
DTSTART:20100328T010000
END:DAYLIGHT
BEGIN:STANDARD
TZOFFSETFROM:+0200
TZOFFSETTO:+0100
TZNAME:CET
DTSTART:20101031T010000
END:STANDARD
END:VTIMEZONE
BEGIN:VEVENT
DTSTART;TZID=Europe/Andorra:20100312T200000
DTEND;TZID=Europe/Andorra:20100312T200000
DTSTAMP:20260420T180744
CREATED:20200729T164815Z
LAST-MODIFIED:20200729T182848Z
UID:8777-1268424000-1268424000@octubre.cat
SUMMARY:Dei Suoni
DESCRIPTION:Divendres 12 de març\, a les 20.00h: Dei Suoni (Alacant).   \n  \n  \n\nDei Suoni naix l’any 2002 a partir de músics procedents d’altres bandes\, ja desaparegudes\, de l’escena alacantina\, com Pili Perkins\, Método Milton i Westpoles. La seua primera maqueta John Kee Songs els va permetre començar a girar al costat de grups com Shanty Road\, Ross\, Early Day Miners o Appleseed casts. Després de nombroses actuacions en directe\, concursos i reestructuracions en la formació\, Dei Suoni van apostar per un so diferent i l’agost de 2006 van fitxar per la discogràfica Closer Records\, amb la qual van enregistrar el seu primer àlbum A path where no one thought (2007). Onze cançons\, onze històries que parlen de lluna\, d’avions i de somnis\, cantades amb un ritme pausat i una veu murmuradora.
URL:https://octubre.cat/activitat/dei-suoni/
LOCATION:No definit
CATEGORIES:Cicle de música pop
ATTACH;FMTTYPE=image/jpeg:https://octubre.cat/www/wp-content/uploads/2020/07/activitat1123.jpg
END:VEVENT
END:VCALENDAR