BEGIN:VCALENDAR
VERSION:2.0
PRODID:-//Octubre Centre de Cultura Contemporània - ECPv5.1.6//NONSGML v1.0//EN
CALSCALE:GREGORIAN
METHOD:PUBLISH
X-WR-CALNAME:Octubre Centre de Cultura Contemporània
X-ORIGINAL-URL:https://octubre.cat
X-WR-CALDESC:Events for Octubre Centre de Cultura Contemporània
BEGIN:VTIMEZONE
TZID:Europe/Andorra
BEGIN:DAYLIGHT
TZOFFSETFROM:+0100
TZOFFSETTO:+0200
TZNAME:CEST
DTSTART:20170326T010000
END:DAYLIGHT
BEGIN:STANDARD
TZOFFSETFROM:+0200
TZOFFSETTO:+0100
TZNAME:CET
DTSTART:20171029T010000
END:STANDARD
END:VTIMEZONE
BEGIN:VEVENT
DTSTART;TZID=Europe/Andorra:20171115T180000
DTEND;TZID=Europe/Andorra:20171115T180000
DTSTAMP:20260421T184247
CREATED:20200729T190212Z
LAST-MODIFIED:20200729T190212Z
UID:13278-1510768800-1510768800@octubre.cat
SUMMARY:Defensa de drets de dones: aliances i lluites compartides
DESCRIPTION:Dimecres 15 de novembre a les 18.00h. Organitzat per Alianza por la Solidaridad.  \n  \n  \n\n Programa:  18.00h. Xerrada-conversa amb Charo Mina Rojas\, activista afrodescendent sobre la defensa dels drets de les dones en les comunitats negres de Colòmbia.  19.00h. Presentació de les primeres conclusions del diagnòstic participatiu de de l’Alianza por la Solidaridad sobre accés a drets de dones migrants al País Valencià.  19.30h. Taller de propostes de dones migrants i defensores de drets per millorar el seu accés als drets.  Organitzat per Alianza por la Solidaridad amb la col·laboració de La Dula.
URL:https://octubre.cat/activitat/defensa-de-drets-de-dones-aliances-i-lluites-compartides/
CATEGORIES:Conferències i congressos
ATTACH;FMTTYPE=image/jpeg:https://octubre.cat/www/wp-content/uploads/2020/07/activitat2918.jpg
END:VEVENT
END:VCALENDAR