BEGIN:VCALENDAR
VERSION:2.0
PRODID:-//Octubre Centre de Cultura Contemporània - ECPv5.1.6//NONSGML v1.0//EN
CALSCALE:GREGORIAN
METHOD:PUBLISH
X-WR-CALNAME:Octubre Centre de Cultura Contemporània
X-ORIGINAL-URL:https://octubre.cat
X-WR-CALDESC:Events for Octubre Centre de Cultura Contemporània
BEGIN:VTIMEZONE
TZID:Europe/Andorra
BEGIN:DAYLIGHT
TZOFFSETFROM:+0100
TZOFFSETTO:+0200
TZNAME:CEST
DTSTART:20120325T010000
END:DAYLIGHT
BEGIN:STANDARD
TZOFFSETFROM:+0200
TZOFFSETTO:+0100
TZNAME:CET
DTSTART:20121028T010000
END:STANDARD
END:VTIMEZONE
BEGIN:VEVENT
DTSTART;TZID=Europe/Andorra:20120301T190000
DTEND;TZID=Europe/Andorra:20120301T190000
DTSTAMP:20260421T210520
CREATED:20200729T165717Z
LAST-MODIFIED:20200730T042943Z
UID:9340-1330628400-1330628400@octubre.cat
SUMMARY:Debats de la Fundacio CEPS 2012
DESCRIPTION:Dijous 1 de març a les 19.00h: “Reforma laboral: ni drets ni treball”\, amb Adoración Guamán i Héctor Ilueca.  \n  \n  \n\n“Reforma laboral: ni drets ni treball”  Intervenen: –Adoración Guamán Hernández\, professora titula de Dret del Treball i Seguretat Social de la Universitat de València –Héctor Ilueca\, inspector de treball
URL:https://octubre.cat/activitat/debats-de-la-fundacio-ceps-2012/
LOCATION:No definit
CATEGORIES:Conferències i congressos
ATTACH;FMTTYPE=image/jpeg:https://octubre.cat/www/wp-content/uploads/2020/07/conferencia1.jpg
END:VEVENT
END:VCALENDAR