BEGIN:VCALENDAR
VERSION:2.0
PRODID:-//Octubre Centre de Cultura Contemporània - ECPv5.1.6//NONSGML v1.0//EN
CALSCALE:GREGORIAN
METHOD:PUBLISH
X-WR-CALNAME:Octubre Centre de Cultura Contemporània
X-ORIGINAL-URL:https://octubre.cat
X-WR-CALDESC:Events for Octubre Centre de Cultura Contemporània
BEGIN:VTIMEZONE
TZID:Europe/Andorra
BEGIN:DAYLIGHT
TZOFFSETFROM:+0100
TZOFFSETTO:+0200
TZNAME:CEST
DTSTART:20110327T010000
END:DAYLIGHT
BEGIN:STANDARD
TZOFFSETFROM:+0200
TZOFFSETTO:+0100
TZNAME:CET
DTSTART:20111030T010000
END:STANDARD
END:VTIMEZONE
BEGIN:VEVENT
DTSTART;TZID=Europe/Andorra:20110630T193000
DTEND;TZID=Europe/Andorra:20110630T193000
DTSTAMP:20260424T042838
CREATED:20200729T165557Z
LAST-MODIFIED:20200730T042843Z
UID:9261-1309462200-1309462200@octubre.cat
SUMMARY:Debats de la Fundació CEPS 2011
DESCRIPTION:Dijous 30 de juny\, a les 19.30h: Reforma electoral: per què\, per a què i com?. A càrrec d’Antonio Montiel i Enrique Soriano  \n  \n  \n\nReforma electoral: per què\, per a què i com?  A càrrec d’ ANTONIO MONTIEL\, Professor de Dret Constitucional\, Ciència Política i de l’Administració de la Universitat de València i ENRIQUE SORIANO\, Professor de Dret Constitucional\, Ciència Política i de l’Administració de la Universitat de València.   Presenta: ADORACIÓN GUAMÁN\, Membre de la Fundació CEPS  Amb la col·laboració de l’Octubre Centre de Cultura Contemporània.
URL:https://octubre.cat/activitat/debats-de-la-fundacio-ceps-2011/
LOCATION:No definit
CATEGORIES:Conferències i congressos
ATTACH;FMTTYPE=image/jpeg:https://octubre.cat/www/wp-content/uploads/2020/07/activitat1492.jpg
END:VEVENT
END:VCALENDAR