BEGIN:VCALENDAR
VERSION:2.0
PRODID:-//Octubre Centre de Cultura Contemporània - ECPv5.1.6//NONSGML v1.0//EN
CALSCALE:GREGORIAN
METHOD:PUBLISH
X-WR-CALNAME:Octubre Centre de Cultura Contemporània
X-ORIGINAL-URL:https://octubre.cat
X-WR-CALDESC:Events for Octubre Centre de Cultura Contemporània
BEGIN:VTIMEZONE
TZID:Europe/Andorra
BEGIN:DAYLIGHT
TZOFFSETFROM:+0100
TZOFFSETTO:+0200
TZNAME:CEST
DTSTART:20110327T010000
END:DAYLIGHT
BEGIN:STANDARD
TZOFFSETFROM:+0200
TZOFFSETTO:+0100
TZNAME:CET
DTSTART:20111030T010000
END:STANDARD
END:VTIMEZONE
BEGIN:VEVENT
DTSTART;TZID=Europe/Andorra:20110706T193000
DTEND;TZID=Europe/Andorra:20110706T193000
DTSTAMP:20260424T055106
CREATED:20200729T165558Z
LAST-MODIFIED:20200730T042844Z
UID:9262-1309980600-1309980600@octubre.cat
SUMMARY:Debats de la Fundació CEPS 2011
DESCRIPTION:Dimecres 6 de juliol a les 19.30h: Per una Assemblea constituent\, a càrrec de Roberto Viciano.  \n  \n  \n\nPer una Assemblea constituent\, a càrrec de ROBERTO VICIANO\, Catedràtic de Dret Constitucional de la Universitat de València.  Presenta: FABIOLA MECO TÉBAR\, Vicepresidenta de la Fundació CEPS.  Amb la col·laboració de l’Octubre Centre de Cultura Contemporània.
URL:https://octubre.cat/activitat/debats-de-la-fundacio-ceps-2011-2/
LOCATION:No definit
CATEGORIES:Conferències i congressos
ATTACH;FMTTYPE=image/jpeg:https://octubre.cat/www/wp-content/uploads/2020/07/activitat1493.jpg
END:VEVENT
END:VCALENDAR