BEGIN:VCALENDAR
VERSION:2.0
PRODID:-//Octubre Centre de Cultura Contemporània - ECPv5.1.6//NONSGML v1.0//EN
CALSCALE:GREGORIAN
METHOD:PUBLISH
X-WR-CALNAME:Octubre Centre de Cultura Contemporània
X-ORIGINAL-URL:https://octubre.cat
X-WR-CALDESC:Events for Octubre Centre de Cultura Contemporània
BEGIN:VTIMEZONE
TZID:Europe/Andorra
BEGIN:DAYLIGHT
TZOFFSETFROM:+0100
TZOFFSETTO:+0200
TZNAME:CEST
DTSTART:20130331T010000
END:DAYLIGHT
BEGIN:STANDARD
TZOFFSETFROM:+0200
TZOFFSETTO:+0100
TZNAME:CET
DTSTART:20131027T010000
END:STANDARD
END:VTIMEZONE
BEGIN:VEVENT
DTSTART;TZID=Europe/Andorra:20130601T103000
DTEND;TZID=Europe/Andorra:20130601T103000
DTSTAMP:20260424T041518
CREATED:20200729T170100Z
LAST-MODIFIED:20200729T184136Z
UID:9558-1370082600-1370082600@octubre.cat
SUMMARY:Debat territorial Esquerra Republicana 2013
DESCRIPTION:Dissabte 1 de juny a les 10.30h\, amb Albert Castellanos i Marta Rovira  \n  \n  \n\n Debat territorial Conferència Nacional 2013.  Amb la participació d’Albert Castellanos\, secretari de Política Econòmica i Treball\, i Marta Rovira\, secretària General d’Esquerra Republicana.  Organitzat per Esquerra Republicana del País Valencià (ERPV)
URL:https://octubre.cat/activitat/debat-territorial-esquerra-republicana-2013/
LOCATION:Sala d’actes
CATEGORIES:Literatura
ATTACH;FMTTYPE=image/jpeg:https://octubre.cat/www/wp-content/uploads/2020/07/activitat1814.jpg
END:VEVENT
END:VCALENDAR