BEGIN:VCALENDAR
VERSION:2.0
PRODID:-//Octubre Centre de Cultura Contemporània - ECPv5.1.6//NONSGML v1.0//EN
CALSCALE:GREGORIAN
METHOD:PUBLISH
X-WR-CALNAME:Octubre Centre de Cultura Contemporània
X-ORIGINAL-URL:https://octubre.cat
X-WR-CALDESC:Events for Octubre Centre de Cultura Contemporània
BEGIN:VTIMEZONE
TZID:Europe/Andorra
BEGIN:DAYLIGHT
TZOFFSETFROM:+0100
TZOFFSETTO:+0200
TZNAME:CEST
DTSTART:20130331T010000
END:DAYLIGHT
BEGIN:STANDARD
TZOFFSETFROM:+0200
TZOFFSETTO:+0100
TZNAME:CET
DTSTART:20131027T010000
END:STANDARD
END:VTIMEZONE
BEGIN:VEVENT
DTSTART;TZID=Europe/Andorra:20130215T190000
DTEND;TZID=Europe/Andorra:20130215T190000
DTSTAMP:20260421T224845
CREATED:20200729T165939Z
LAST-MODIFIED:20200729T184030Z
UID:9483-1360954800-1360954800@octubre.cat
SUMMARY:Debat sobre el suïcidi
DESCRIPTION:Divendres 15 de febrer a les 19.00h\, organitzat per la Societat Valenciana de Ciències de la Salut  \n  \n  \n\n Amb la participació de:  –Prof. Dr. Oto Luque i Aigües Director del Departamente de Psicologia Social. Facultat d Psicologia. Universitat d València  –Dr. Manuel Fenollosa i González Cap del Servei de Patologia Forense de l’Institut de Medicina Legal de València  –Mossèn Vicent Estarlich i Chover Teòleg i psicóleg  Organitzat per la Societat Valenciana de Ciències de la Salut “Joan B. Peset”
URL:https://octubre.cat/activitat/debat-sobre-el-suicidi/
LOCATION:No definit
CATEGORIES:Societat Valenciana de Ciències de la Salut
ATTACH;FMTTYPE=image/jpeg:https://octubre.cat/www/wp-content/uploads/2020/07/activitat1735.jpg
END:VEVENT
END:VCALENDAR