BEGIN:VCALENDAR
VERSION:2.0
PRODID:-//Octubre Centre de Cultura Contemporània - ECPv5.1.6//NONSGML v1.0//EN
CALSCALE:GREGORIAN
METHOD:PUBLISH
X-WR-CALNAME:Octubre Centre de Cultura Contemporània
X-ORIGINAL-URL:https://octubre.cat
X-WR-CALDESC:Events for Octubre Centre de Cultura Contemporània
BEGIN:VTIMEZONE
TZID:Europe/Andorra
BEGIN:DAYLIGHT
TZOFFSETFROM:+0100
TZOFFSETTO:+0200
TZNAME:CEST
DTSTART:20150329T010000
END:DAYLIGHT
BEGIN:STANDARD
TZOFFSETFROM:+0200
TZOFFSETTO:+0100
TZNAME:CET
DTSTART:20151025T010000
END:STANDARD
END:VTIMEZONE
BEGIN:VEVENT
DTSTART;TZID=Europe/Andorra:20150421T190000
DTEND;TZID=Europe/Andorra:20150421T190000
DTSTAMP:20260421T194053
CREATED:20200729T171029Z
LAST-MODIFIED:20200730T041428Z
UID:10145-1429642800-1429642800@octubre.cat
SUMMARY:Debat sobre el Concordat amb la Santa Seu
DESCRIPTION:Dimarts 21 d’abril a les 19.00h amb Dionisio Llamazares\, Luis Manglano\, Javier de Lucas i Raquel Ortiz. Organitzat per València Laica.  \n  \n  \n\n “Concordat amb la Santa Seu: inconstitucional? ancestral!”  Intervindran:  —Dionisio Llamazares\, catedràtic de Dret Eclesiàstic. President de l’Associació “Dret\, laïcitat i democràcia”  —Luis Manglano\, magistrat i membre de Jutges per la Democràcia  —Javier de Lucas\, catedràtic de Filosofia del Dret i Filosofia Política a l’Institut de Drets Humans de la Universitat de València  Modera: Raquel Ortiz\, coordinadora de València Laica  Organitza: Europa Laica
URL:https://octubre.cat/activitat/debat-sobre-el-concordat-amb-la-santa-seu/
LOCATION:Sala d’actes
CATEGORIES:Conferències i congressos
ATTACH;FMTTYPE=image/jpeg:https://octubre.cat/www/wp-content/uploads/2020/07/activitat2311.jpg
END:VEVENT
END:VCALENDAR