BEGIN:VCALENDAR
VERSION:2.0
PRODID:-//Octubre Centre de Cultura Contemporània - ECPv5.1.6//NONSGML v1.0//EN
CALSCALE:GREGORIAN
METHOD:PUBLISH
X-WR-CALNAME:Octubre Centre de Cultura Contemporània
X-ORIGINAL-URL:https://octubre.cat
X-WR-CALDESC:Events for Octubre Centre de Cultura Contemporània
BEGIN:VTIMEZONE
TZID:Europe/Andorra
BEGIN:DAYLIGHT
TZOFFSETFROM:+0100
TZOFFSETTO:+0200
TZNAME:CEST
DTSTART:20260329T010000
END:DAYLIGHT
BEGIN:STANDARD
TZOFFSETFROM:+0200
TZOFFSETTO:+0100
TZNAME:CET
DTSTART:20261025T010000
END:STANDARD
END:VTIMEZONE
BEGIN:VEVENT
DTSTART;TZID=Europe/Andorra:20260424T190000
DTEND;TZID=Europe/Andorra:20260424T190000
DTSTAMP:20260421T205957
CREATED:20260421T153705Z
LAST-MODIFIED:20260421T153705Z
UID:25268-1777057200-1777057200@octubre.cat
SUMMARY:Debat Situació de les llengües minoritzades\, front l’Estat
DESCRIPTION:A l’Octubre Centre de Cultura Contemporània \nAmb Joan Ridao\, Anna Oliver i Domènec Garcia \nAcció Cultural del País Valencià commemora enguany el 25 d’Abril sota el lema “Davant les agressions\, som la força del país”\, amb una programació que combina debat\, reconeixement i mobilització. \nEn un context d’atacs a la llengua\, la cultura\, els drets socials\, el territori i els serveis públics\, ACPV fa una crida a tota la seua base social i simpatitzant a participar activament en els actes de la diada. \n  \n \n  \nEntrada lliure fins a completar aforament.
URL:https://octubre.cat/activitat/debat-situacio-de-les-llengues-minoritzades-front-lestat/
LOCATION:Hall
CATEGORIES:Conferències i congressos
ATTACH;FMTTYPE=image/jpeg:https://octubre.cat/www/wp-content/uploads/2026/04/34-CARTELL-ESDEVENIMENT-ACPV-x-ERPV_Retall.jpg
END:VEVENT
END:VCALENDAR