BEGIN:VCALENDAR
VERSION:2.0
PRODID:-//Octubre Centre de Cultura Contemporània - ECPv5.1.6//NONSGML v1.0//EN
CALSCALE:GREGORIAN
METHOD:PUBLISH
X-WR-CALNAME:Octubre Centre de Cultura Contemporània
X-ORIGINAL-URL:https://octubre.cat
X-WR-CALDESC:Events for Octubre Centre de Cultura Contemporània
BEGIN:VTIMEZONE
TZID:Europe/Andorra
BEGIN:DAYLIGHT
TZOFFSETFROM:+0100
TZOFFSETTO:+0200
TZNAME:CEST
DTSTART:20160327T010000
END:DAYLIGHT
BEGIN:STANDARD
TZOFFSETFROM:+0200
TZOFFSETTO:+0100
TZNAME:CET
DTSTART:20161030T010000
END:STANDARD
END:VTIMEZONE
BEGIN:VEVENT
DTSTART;TZID=Europe/Andorra:20161007T190000
DTEND;TZID=Europe/Andorra:20161007T190000
DTSTAMP:20260421T085043
CREATED:20200729T172030Z
LAST-MODIFIED:20200729T185602Z
UID:10786-1475866800-1475866800@octubre.cat
SUMMARY:Debat 'La RTVV que volem'
DESCRIPTION:Divendres 7 d’octubre a les 19.00h. Debat amb Reis Juan\, Xelo Vicente\, Josep Barberà i Amadeu Sanchis.  \n  \n  \n\n Amb la participació de:  —Reis Juan (presidenta de M1ldenou) —Xelo Vicente (presidenta del comitè d’empresa de RTVV) —Josep Barberà (president d’ERPV) —Amadeu Sanchis (exconseller de RTVV)  Ho organitzen: –Esquerra Republicana / València –Esquerra Unida del País Valencià –M1ldenou
URL:https://octubre.cat/activitat/debat-la-rtvv-que-volem/
LOCATION:Sala d’actes
CATEGORIES:Conferències i congressos
ATTACH;FMTTYPE=image/jpeg:https://octubre.cat/www/wp-content/uploads/2020/07/activitat2647.jpg
END:VEVENT
END:VCALENDAR