BEGIN:VCALENDAR
VERSION:2.0
PRODID:-//Octubre Centre de Cultura Contemporània - ECPv5.1.6//NONSGML v1.0//EN
CALSCALE:GREGORIAN
METHOD:PUBLISH
X-WR-CALNAME:Octubre Centre de Cultura Contemporània
X-ORIGINAL-URL:https://octubre.cat
X-WR-CALDESC:Events for Octubre Centre de Cultura Contemporània
BEGIN:VTIMEZONE
TZID:Europe/Andorra
BEGIN:DAYLIGHT
TZOFFSETFROM:+0100
TZOFFSETTO:+0200
TZNAME:CEST
DTSTART:20140330T010000
END:DAYLIGHT
BEGIN:STANDARD
TZOFFSETFROM:+0200
TZOFFSETTO:+0100
TZNAME:CET
DTSTART:20141026T010000
END:STANDARD
END:VTIMEZONE
BEGIN:VEVENT
DTSTART;TZID=Europe/Andorra:20141007T190000
DTEND;TZID=Europe/Andorra:20141007T190000
DTSTAMP:20260421T093256
CREATED:20200729T170621Z
LAST-MODIFIED:20200730T041217Z
UID:9876-1412708400-1412708400@octubre.cat
SUMMARY:Debat 'La ciència al País Valencià'
DESCRIPTION:Dimarts 7 d’octubre a les 19.00h. Debat i presentació del número de setembre 2014 de la revista Saó  \n  \n  \n\n Presentació-debat ‘La ciència al País València’  Amb motiu de l’aparició del número de setembre de 2014 de la revista Saó  Intervendran: —José Pío Beltrán\, Coordinador Institucional del CSIC a la Comunitat Valenciana —Vicent Boscà\, director de la revista Saó —Pilar Campins\, Vicerrectora d’Investigació de la Universitat de València —Fernando Sapiña\, Director de l’ICMUV  Organitza: Espai Ciència-Llibreria 3i4
URL:https://octubre.cat/activitat/debat-la-ciencia-al-pais-valencia/
LOCATION:Llibreria 3i4
CATEGORIES:Espai Ciència
ATTACH;FMTTYPE=image/jpeg:https://octubre.cat/www/wp-content/uploads/2020/07/activitat2135.jpg
END:VEVENT
END:VCALENDAR