BEGIN:VCALENDAR
VERSION:2.0
PRODID:-//Octubre Centre de Cultura Contemporània - ECPv5.1.6//NONSGML v1.0//EN
CALSCALE:GREGORIAN
METHOD:PUBLISH
X-WR-CALNAME:Octubre Centre de Cultura Contemporània
X-ORIGINAL-URL:https://octubre.cat
X-WR-CALDESC:Events for Octubre Centre de Cultura Contemporània
BEGIN:VTIMEZONE
TZID:Europe/Andorra
BEGIN:DAYLIGHT
TZOFFSETFROM:+0100
TZOFFSETTO:+0200
TZNAME:CEST
DTSTART:20120325T010000
END:DAYLIGHT
BEGIN:STANDARD
TZOFFSETFROM:+0200
TZOFFSETTO:+0100
TZNAME:CET
DTSTART:20121028T010000
END:STANDARD
END:VTIMEZONE
BEGIN:VEVENT
DTSTART;TZID=Europe/Andorra:20121203T190000
DTEND;TZID=Europe/Andorra:20121203T190000
DTSTAMP:20260421T045213
CREATED:20200729T165858Z
LAST-MODIFIED:20200729T183953Z
UID:9443-1354561200-1354561200@octubre.cat
SUMMARY:Debat Constituents València
DESCRIPTION:Dilluns 3 de desembre\, a les 19.00h: Debat “Espanyols\, la constitució ha mort”\, organitzat per Constituents València  \n  \n  \n\nDebat “Espanyols\, la Constitució ha mort”  Amb la participació de: Rubén Martínez Dalmau. Professor de Dret de la Universitat de València Aurora Pedro Bueno. Professora de Dret de la Universitat de València Presenta i modera: Diego González. Membre de Constituents València  Organitza: Constituents València Col·labora: Constitucionalistas por la Democracia
URL:https://octubre.cat/activitat/debat-constituents-valencia/
LOCATION:No definit
CATEGORIES:Conferències i congressos
ATTACH;FMTTYPE=image/jpeg:https://octubre.cat/www/wp-content/uploads/2020/07/conferencia1.jpg
END:VEVENT
END:VCALENDAR