BEGIN:VCALENDAR
VERSION:2.0
PRODID:-//Octubre Centre de Cultura Contemporània - ECPv5.1.6//NONSGML v1.0//EN
CALSCALE:GREGORIAN
METHOD:PUBLISH
X-WR-CALNAME:Octubre Centre de Cultura Contemporània
X-ORIGINAL-URL:https://octubre.cat
X-WR-CALDESC:Events for Octubre Centre de Cultura Contemporània
BEGIN:VTIMEZONE
TZID:Europe/Andorra
BEGIN:DAYLIGHT
TZOFFSETFROM:+0100
TZOFFSETTO:+0200
TZNAME:CEST
DTSTART:20160327T010000
END:DAYLIGHT
BEGIN:STANDARD
TZOFFSETFROM:+0200
TZOFFSETTO:+0100
TZNAME:CET
DTSTART:20161030T010000
END:STANDARD
END:VTIMEZONE
BEGIN:VEVENT
DTSTART;TZID=Europe/Andorra:20161006T000000
DTEND;TZID=Europe/Andorra:20161016T000000
DTSTAMP:20260425T192251
CREATED:20200729T172028Z
LAST-MODIFIED:20200903T171943Z
UID:10784-1475712000-1476576000@octubre.cat
SUMMARY:'De València a Gaza'\, fotografies de David Segarra
DESCRIPTION:De València a Gaza. Arrels mediterrànies\, fotografies de David Segarra \nInauguració: dijous 6 d’octubre a les 20.00h \nEn el marc de la Mostra Viva del Mediterrani 2016 presentem un projecte fotogràfic pensat per establir ponts entre el poble valencià i el poble palestí. Per reconèixer-nos\, estimar-nos i valorar les nostres arrels mediterrànies. L’objectiu de l’exposició “De València a Gaza” és mostrar les històries que els grans mitjans deixen habitualment de banda: les històries de la humanitat\, la bellesa i la resiliència la gent. Presentem fotografies on l’Altre es transforma en Nosaltres. On les dones apareixen com a pilars de la societat. On xiquets i majors ens ensenyen mirades de saviesa i tendresa. On les fronteres i els murs es difuminen. On la cultura es converteix en l’art de superar l’adversitat\, l’art de la resistència\, l’art de viure. \nDavid Segarra (València\, 1976) és un periodista especialitzat en la direcció de documentals i reportatges. També ha produït nombrosos videoclips. En els últims anys ha realitzat nombroses conferències sobre periodisme i fotografia a Casa Árabe (Madrid)\, Casa de València (Barcelona)\, Universitat de València (La Nau\, Rector Peset\, Facultat de Geografia) i Universitat d’Alacant. El 2014 va publicar el llibre de fotografia i cròniques Viure\, morir i nàixer a Gaza i el 2011 va guanyar primers premis pel seu documental Foc sobre el Màrmara en festivals de cinema de Marroc\, Veneçuela i Argentina\, quedant finalista a Finlàndia\, Méxic\, Qatar i Espanya. Aquell mateix any va rebre el premi de la revista Túria al Mèrit Cívic per la seua feina periodística. \nComissària i coordinadora d’Art de Mostra Viva: Maite Ibáñez\nOrganitzat per Mostra Viva del Mediterrani amb la col·laboració de l’Octubre CCC
URL:https://octubre.cat/activitat/de-valencia-a-gaza-fotografies-de-david-segarra/
LOCATION:Hall
CATEGORIES:Exposicions
ATTACH;FMTTYPE=image/jpeg:https://octubre.cat/www/wp-content/uploads/2020/07/activitat2645.jpg
END:VEVENT
END:VCALENDAR