BEGIN:VCALENDAR
VERSION:2.0
PRODID:-//Octubre Centre de Cultura Contemporània - ECPv5.1.6//NONSGML v1.0//EN
CALSCALE:GREGORIAN
METHOD:PUBLISH
X-WR-CALNAME:Octubre Centre de Cultura Contemporània
X-ORIGINAL-URL:https://octubre.cat
X-WR-CALDESC:Events for Octubre Centre de Cultura Contemporània
BEGIN:VTIMEZONE
TZID:Europe/Andorra
BEGIN:DAYLIGHT
TZOFFSETFROM:+0100
TZOFFSETTO:+0200
TZNAME:CEST
DTSTART:20080330T010000
END:DAYLIGHT
BEGIN:STANDARD
TZOFFSETFROM:+0200
TZOFFSETTO:+0100
TZNAME:CET
DTSTART:20081026T010000
END:STANDARD
END:VTIMEZONE
BEGIN:VEVENT
DTSTART;TZID=Europe/Andorra:20080409T190000
DTEND;TZID=Europe/Andorra:20080409T190000
DTSTAMP:20260420T222432
CREATED:20200729T181809Z
LAST-MODIFIED:20200730T035659Z
UID:12528-1207767600-1207767600@octubre.cat
SUMMARY:De quina manera els oceans i les regions polars intervenen en l’equilibri climàtic de la Terra?
DESCRIPTION:Dimecres 9\, 19.00h.  Conferència a càrrec de Josefina Castellví (CSIC).   Aquesta és la segona xarrada de Les exploracions inacabades\, un cicle de conferències de l’Espai Ciència amb motiu de l’Any Internacional de la Terra.     \n  \n  \n\nConferència a càrrec de Josefina Castellví (CSIC).  Josefina Castellví és oceanògrafa i biòloga marina i es va doctorar en ciències biològiques per la Universitat de Barcelona. Treballa a l’Institut de Ciències del Mar de Barcelona (CSIC)\, institut que va dirigir entre 1994 i 1995. Ha estat directora de la missió científica espanyola a l’Antàrtida en diverses campanyes. L’any 2003 va estar guardonada amb la Creu de Sant Jordi de la Generalitat de Catalunya.  Aquesta és la segona xarrada de Les exploracions inacabades\, un cicle de conferències de l’Espai Ciència amb motiu de l’Any Internacional de la Terra.
URL:https://octubre.cat/activitat/de-quina-manera-els-oceans-i-les-regions-polars-intervenen-en-lequilibri-climatic-de-la-terra/
LOCATION:No definit
CATEGORIES:Espai Ciència
ATTACH;FMTTYPE=image/jpeg:https://octubre.cat/www/wp-content/uploads/2020/07/espaiciencia1.jpg
END:VEVENT
END:VCALENDAR