BEGIN:VCALENDAR
VERSION:2.0
PRODID:-//Octubre Centre de Cultura Contemporània - ECPv5.1.6//NONSGML v1.0//EN
CALSCALE:GREGORIAN
METHOD:PUBLISH
X-WR-CALNAME:Octubre Centre de Cultura Contemporània
X-ORIGINAL-URL:https://octubre.cat
X-WR-CALDESC:Events for Octubre Centre de Cultura Contemporània
BEGIN:VTIMEZONE
TZID:Europe/Andorra
BEGIN:DAYLIGHT
TZOFFSETFROM:+0100
TZOFFSETTO:+0200
TZNAME:CEST
DTSTART:20150329T010000
END:DAYLIGHT
BEGIN:STANDARD
TZOFFSETFROM:+0200
TZOFFSETTO:+0100
TZNAME:CET
DTSTART:20151025T010000
END:STANDARD
END:VTIMEZONE
BEGIN:VEVENT
DTSTART;TZID=Europe/Andorra:20151223T190000
DTEND;TZID=Europe/Andorra:20151223T190000
DTSTAMP:20260421T024123
CREATED:20200729T171417Z
LAST-MODIFIED:20200730T041604Z
UID:10386-1450897200-1450897200@octubre.cat
SUMMARY:'De nens'\, de Joaquim Jordà
DESCRIPTION:Dimecres 2 de desembre a les 19.00h. Projecció inclosa en el cicle de cinema Barcelona Escenari 2015. Entrada lliure.  \n  \n  \n\n Documental basat en fets reals que narra un cas de pedofília de 1997 al Raval de Barcelona. El desenvolupament agònic d’un judici ple d’irregularitats ens apropa a un grup anònim d’acusats\, pares còmplices i suposats pedòfils\, en el conjunt d’un entramat de mitges veritats i lluita política entre veïns.  Direcció: Joaquim Jordà (2003) Guió: Joaquim Jordà i Laia Manresa Producció: Isona Passola Música: Albert Pla Fotografia: Carles Gusi i Enrc Daví Productora: Massa d’Or Produccions Durada: 188 minuts  Secció Zabaltegi\, Festival de Cinema de San Sebastián 2003 Premi ex-aequo Millor Documental Iberoamericà\, Festival de Guadalajara (Mèxic) 2004 Premi Millor Documental 2005\, Col·legi de Directors de Catalunya  Nominada al premi de millor documental dels Premis Goya 2004  Cicle organitzat per l’Octubre Centre de Cultura Contemporània amb el patrocini de l’Institut de Cultura de Barcelona Col·labora: Mostra Viva Direcció del cicle: Antonio Lloréns
URL:https://octubre.cat/activitat/de-nens-de-joaquim-jorda/
LOCATION:Sala d’actes
CATEGORIES:Barcelona escenari 2015 (cinema)
ATTACH;FMTTYPE=image/jpeg:https://octubre.cat/www/wp-content/uploads/2020/07/activitat2440.jpg
END:VEVENT
END:VCALENDAR