BEGIN:VCALENDAR
VERSION:2.0
PRODID:-//Octubre Centre de Cultura Contemporània - ECPv5.1.6//NONSGML v1.0//EN
CALSCALE:GREGORIAN
METHOD:PUBLISH
X-WR-CALNAME:Octubre Centre de Cultura Contemporània
X-ORIGINAL-URL:https://octubre.cat
X-WR-CALDESC:Events for Octubre Centre de Cultura Contemporània
BEGIN:VTIMEZONE
TZID:Europe/Andorra
BEGIN:DAYLIGHT
TZOFFSETFROM:+0100
TZOFFSETTO:+0200
TZNAME:CEST
DTSTART:20070325T010000
END:DAYLIGHT
BEGIN:STANDARD
TZOFFSETFROM:+0200
TZOFFSETTO:+0100
TZNAME:CET
DTSTART:20071028T010000
END:STANDARD
END:VTIMEZONE
BEGIN:VEVENT
DTSTART;TZID=Europe/Andorra:20070426T190000
DTEND;TZID=Europe/Andorra:20070426T190000
DTSTAMP:20260420T215337
CREATED:20251207T170057Z
LAST-MODIFIED:20251207T170057Z
UID:24180-1177614000-1177614000@octubre.cat
SUMMARY:De Linné a Darwin
DESCRIPTION:“De Linné a Darwin”\nA càrrec de Cristina Junyent\, doctora en Biologia per la Universitat de Barcelona i directora de la Fundació Ciència i Societat.
URL:https://octubre.cat/activitat/de-linne-a-darwin/
LOCATION:Aula 1
CATEGORIES:Societat Valenciana de Ciències de la Salut
ATTACH;FMTTYPE=image/jpeg:https://octubre.cat/www/wp-content/uploads/2020/07/conferencia1.jpg
END:VEVENT
END:VCALENDAR