BEGIN:VCALENDAR
VERSION:2.0
PRODID:-//Octubre Centre de Cultura Contemporània - ECPv5.1.6//NONSGML v1.0//EN
CALSCALE:GREGORIAN
METHOD:PUBLISH
X-WR-CALNAME:Octubre Centre de Cultura Contemporània
X-ORIGINAL-URL:https://octubre.cat
X-WR-CALDESC:Events for Octubre Centre de Cultura Contemporània
BEGIN:VTIMEZONE
TZID:Europe/Andorra
BEGIN:DAYLIGHT
TZOFFSETFROM:+0100
TZOFFSETTO:+0200
TZNAME:CEST
DTSTART:20090329T010000
END:DAYLIGHT
BEGIN:STANDARD
TZOFFSETFROM:+0200
TZOFFSETTO:+0100
TZNAME:CET
DTSTART:20091025T010000
END:STANDARD
END:VTIMEZONE
BEGIN:VEVENT
DTSTART;TZID=Europe/Andorra:20091119T193000
DTEND;TZID=Europe/Andorra:20091119T193000
DTSTAMP:20260420T172131
CREATED:20200729T182605Z
LAST-MODIFIED:20200729T182605Z
UID:12914-1258659000-1258659000@octubre.cat
SUMMARY:De la música cortesana al nacionalisme  català. Músiques del Sud
DESCRIPTION:Dijous 19 de novembre\, a les 19.30h: “De la música cortesana al nacionalisme  català. Músiques del Sud”\, a càrrec del quartet de corda “A piacere”.   \n  \n  \n\nPrograma  Luigi Boccherini (1743-1815) “Quintettino”  J.C. de Arriaga (1806-1826) Quartet nº 2 en La major  (2ª part)  Joaquín Turina (1882-1949) “Oración del torero”  E. Toldrà (1895-1962) “Vistes al mar”
URL:https://octubre.cat/activitat/de-la-musica-cortesana-al-nacionalisme-catala-musiques-del-sud/
LOCATION:No definit
CATEGORIES:Cicle de Música de Cambra
ATTACH;FMTTYPE=image/jpeg:https://octubre.cat/www/wp-content/uploads/2020/07/activitat947.jpg
END:VEVENT
END:VCALENDAR