BEGIN:VCALENDAR
VERSION:2.0
PRODID:-//Octubre Centre de Cultura Contemporània - ECPv5.1.6//NONSGML v1.0//EN
CALSCALE:GREGORIAN
METHOD:PUBLISH
X-WR-CALNAME:Octubre Centre de Cultura Contemporània
X-ORIGINAL-URL:https://octubre.cat
X-WR-CALDESC:Events for Octubre Centre de Cultura Contemporània
BEGIN:VTIMEZONE
TZID:Europe/Andorra
BEGIN:DAYLIGHT
TZOFFSETFROM:+0100
TZOFFSETTO:+0200
TZNAME:CEST
DTSTART:20210328T010000
END:DAYLIGHT
BEGIN:STANDARD
TZOFFSETFROM:+0200
TZOFFSETTO:+0100
TZNAME:CET
DTSTART:20211031T010000
END:STANDARD
END:VTIMEZONE
BEGIN:VEVENT
DTSTART;TZID=Europe/Andorra:20210204T000000
DTEND;TZID=Europe/Andorra:20210220T000000
DTSTAMP:20260425T130503
CREATED:20210303T174457Z
LAST-MODIFIED:20210303T174457Z
UID:16138-1612396800-1613779200@octubre.cat
SUMMARY:De la Banca Armada a la Banca Ètica
DESCRIPTION:Sensibilització per una ciutadania i un teixit associatiu compromès i coherent amb el foment de la pau. \nDes de l’any 2017 la Fundació Cívica Novessendes i Setem treballen conjuntament en la realització d’accions de sensibilització emmarcades en la Campanya Banca Armada.\nL’objectiu específic d’aquest projecte és sensibilitzar la ciutadania valenciana i a entitats del teixit associatiu del País Valencià sobre els vincles dels bancs amb la indústria armamentista\, amb a finalitat de promoure accions individuals i coherents amb el foment d’una cultura de pau amb perspectiva de gènere i un desenvolupament humà sostenible. \n—\nMostra organitzada per Novessendes i Setem amb el finançament de la Generalitat Valenciana i la col·laboració de l’Octubre CCC.
URL:https://octubre.cat/activitat/de-la-banca-armada-a-la-banca-etica/
LOCATION:Hall
CATEGORIES:Exposicions
ATTACH;FMTTYPE=image/jpeg:https://octubre.cat/www/wp-content/uploads/2021/03/BancaArmada-F2021_FotoPRATSiCAMPS-3g.jpg
END:VEVENT
END:VCALENDAR