BEGIN:VCALENDAR
VERSION:2.0
PRODID:-//Octubre Centre de Cultura Contemporània - ECPv5.1.6//NONSGML v1.0//EN
CALSCALE:GREGORIAN
METHOD:PUBLISH
X-WR-CALNAME:Octubre Centre de Cultura Contemporània
X-ORIGINAL-URL:https://octubre.cat
X-WR-CALDESC:Events for Octubre Centre de Cultura Contemporània
BEGIN:VTIMEZONE
TZID:Europe/Andorra
BEGIN:DAYLIGHT
TZOFFSETFROM:+0100
TZOFFSETTO:+0200
TZNAME:CEST
DTSTART:20090329T010000
END:DAYLIGHT
BEGIN:STANDARD
TZOFFSETFROM:+0200
TZOFFSETTO:+0100
TZNAME:CET
DTSTART:20091025T010000
END:STANDARD
END:VTIMEZONE
BEGIN:VEVENT
DTSTART;TZID=Europe/Andorra:20090208T190000
DTEND;TZID=Europe/Andorra:20090208T190000
DTSTAMP:20260420T222837
CREATED:20200729T182315Z
LAST-MODIFIED:20200729T182315Z
UID:12755-1234119600-1234119600@octubre.cat
SUMMARY:Dayna Stephens Quartet
DESCRIPTION:Diumenge 8 de febrer\, a les 19.00h:  Dayna Stephens Quartet  \n  \n  \n\nAcaba de complir els 30 i el seu currículum és ja impressionant\, perquè ha acompanyat artistes de la talla d’Herbie Hancock\, Carlos Santana\, Stevie Wonder\, Quincy Jones\, Chick corea o Steve Coleman. Tots han vist en aquest jove saxofonista\, natural de Nova York\, però criat musicalment en la Costa Oest\, una fera del saxo tenor\, un solista vigorós de to càlid i un compositor i arranjador de gran creativitat. Des que es va graduar en el Monk Institute el 2003\, Stephens ha distribuït el seu temps entre l’àrea de la badia de San Francisco i l’escena novaiorquesa i les seus gires pel món. En el seu primer treball\, “The Timeless Now”\, que ha pujat com l’escuma als primers llocs de les llistes Billboard i Jazz Week\, ha comptat amb la col·laboració\, entre altres\, d’Eric Harland o John Scofield.  Dayna Stephens: saxo / Albert Sanz: piano Dee Jay Foster: contrabaix / Andre Sumelius: bateria
URL:https://octubre.cat/activitat/dayna-stephens-quartet/
LOCATION:No definit
CATEGORIES:Diumenges de Jazz!
ATTACH;FMTTYPE=image/jpeg:https://octubre.cat/www/wp-content/uploads/2020/07/activitat780.jpg
END:VEVENT
END:VCALENDAR